BEGIN:VCALENDAR
VERSION:2.0
PRODID:-//gutach.ortenaukultur.de//NONSGML kigkonsult.se iCalcreator 2.41.92//
CALSCALE:GREGORIAN
METHOD:PUBLISH
UID:37623936-6238-4630-b366-373038623263
X-WR-TIMEZONE:Europe/Berlin
X-LIC-LOCATION:Europe/Berlin
BEGIN:VEVENT
UID:528564-kulturportal@gutach.ortenaukultur.de
DTSTAMP:20260425T035816Z
DESCRIPTION:Kurzbeschreibung:\n Wie jedes Jahr treffen sich im Herbst die K
 unstradfahrerinnen und -fahrer aus der ganzen Region in der Gutacher Liebi
 ch-Sporthalle zum Wettbewerb um die begehrt\n Ort:\n Liebich-Sporthalle\n 
 Hauptstr. 16\, 77793 Gutach (Schwarzwaldbahn)\n Veranstalter:\n Radsportve
 rein 'Solidarität' e.V.\n Termin:\n Beginn: 25.10.2026\, 09:30 Uhr\n Ende:
  25.10.2026\n Link:\n Zur Detailseite
DTSTART;TZID=Europe/Berlin:20261025T093000
DTEND;TZID=Europe/Berlin:20261025T123000
LOCATION:Liebich-Sporthalle\, Hauptstr. 16\, 77793 Gutach (Schwarzwaldbahn)
SUMMARY:Curt-Liebich-Pokal\, Liebich-Sporthalle
X-ALT-DESC;FMTTYPE=text/html:<strong>Kurzbeschreibung:</strong><br/>Wie jed
 es Jahr treffen sich im Herbst die Kunstradfahrerinnen und -fahrer aus der
  ganzen Region in der Gutacher Liebich-Sporthalle zum Wettbewerb um die be
 gehrt<br /><strong>Ort:</strong><br/>Liebich-Sporthalle<br/>Hauptstr. 16\,
  77793 Gutach (Schwarzwaldbahn)<br /><strong>Veranstalter:</strong><br/>Ra
 dsportverein 'Solidarität' e.V.<br /><strong>Termin:</strong><br/>Beginn: 
 25.10.2026\, 09:30 Uhr<br/>Ende: 25.10.2026<br /><strong>Link:</strong><br
 /><a href='https://gutach.ortenaukultur.de/de/veranstaltungen/detail/veran
 staltung/id/528564-curt-liebich-pokal/?vt=1'>Zur Detailseite</a>
END:VEVENT
END:VCALENDAR
