BEGIN:VCALENDAR
VERSION:2.0
PRODID:-//gutach.ortenaukultur.de//NONSGML kigkonsult.se iCalcreator 2.41.92//
CALSCALE:GREGORIAN
METHOD:PUBLISH
UID:63666637-3865-4539-b930-636239666538
X-WR-TIMEZONE:Europe/Berlin
X-LIC-LOCATION:Europe/Berlin
BEGIN:VEVENT
UID:559045-kulturportal@gutach.ortenaukultur.de
DTSTAMP:20260425T004034Z
DESCRIPTION:Kurzbeschreibung:\n TuS Gutach e.V.\n Ort:\n Liebich-Sporthalle
 \n Hauptstr. 16\, 77793 Gutach (Schwarzwaldbahn)\n Veranstalter:\n Turn- u
 nd Sportverein Gutach 1901 e.V.\n Termin:\n Beginn: 12.12.2026\, 14:00 Uhr
 \n Ende: 12.12.2026\n Link:\n Zur Detailseite
DTSTART;TZID=Europe/Berlin:20261212T140000
DTEND;TZID=Europe/Berlin:20261212T170000
LOCATION:Liebich-Sporthalle\, Hauptstr. 16\, 77793 Gutach (Schwarzwaldbahn)
SUMMARY:Nikolausturnen\, Liebich-Sporthalle
X-ALT-DESC;FMTTYPE=text/html:<strong>Kurzbeschreibung:</strong><br/>TuS Gut
 ach e.V.<br /><strong>Ort:</strong><br/>Liebich-Sporthalle<br/>Hauptstr. 1
 6\, 77793 Gutach (Schwarzwaldbahn)<br /><strong>Veranstalter:</strong><br/
 >Turn- und Sportverein Gutach 1901 e.V.<br /><strong>Termin:</strong><br/>
 Beginn: 12.12.2026\, 14:00 Uhr<br/>Ende: 12.12.2026<br /><strong>Link:</st
 rong><br/><a href='https://gutach.ortenaukultur.de/de/veranstaltungen/deta
 il/veranstaltung/id/559045-nikolausturnen/?vt=1'>Zur Detailseite</a>
END:VEVENT
END:VCALENDAR
