BEGIN:VCALENDAR
VERSION:2.0
PRODID:-//gutach.ortenaukultur.de//NONSGML kigkonsult.se iCalcreator 2.41.92//
CALSCALE:GREGORIAN
METHOD:PUBLISH
UID:61366433-6138-4837-b764-396165623535
X-WR-TIMEZONE:Europe/Berlin
X-LIC-LOCATION:Europe/Berlin
BEGIN:VEVENT
UID:585291-kulturportal@gutach.ortenaukultur.de
DTSTAMP:20260424T225554Z
DESCRIPTION:Kurzbeschreibung:\n Bei Einbruch der Dunkelheit entzünden wir d
 as Johannisfeuer.\n Ort:\n Kurpark\n Siedlung 3 a\, 77793 Gutach (Schwarzw
 aldbahn)\n Veranstalter:\n Schwarzwaldverein - Ortsgruppe Gutach e.V.\n Te
 rmin:\n Beginn: 20.06.2026\, 19:00 Uhr\n Ende: 20.06.2026\n Link:\n Zur De
 tailseite
DTSTART;TZID=Europe/Berlin:20260620T190000
DTEND;TZID=Europe/Berlin:20260620T220000
LOCATION:Kurpark\, Siedlung 3 a\, 77793 Gutach (Schwarzwaldbahn)
SUMMARY:Sonnwendfeier\, Kurpark
X-ALT-DESC;FMTTYPE=text/html:<strong>Kurzbeschreibung:</strong><br/>Bei Ein
 bruch der Dunkelheit entzünden wir das Johannisfeuer. <br /><strong>Ort:</
 strong><br/>Kurpark<br/>Siedlung 3 a\, 77793 Gutach (Schwarzwaldbahn)<br /
 ><strong>Veranstalter:</strong><br/>Schwarzwaldverein - Ortsgruppe Gutach 
 e.V.<br /><strong>Termin:</strong><br/>Beginn: 20.06.2026\, 19:00 Uhr<br/>
 Ende: 20.06.2026<br /><strong>Link:</strong><br/><a href='https://gutach.o
 rtenaukultur.de/de/veranstaltungen/detail/veranstaltung/id/585291-sonnwend
 feier/?vt=1'>Zur Detailseite</a>
END:VEVENT
END:VCALENDAR
