BEGIN:VCALENDAR
VERSION:2.0
PRODID:-//gutach.ortenaukultur.de//NONSGML kigkonsult.se iCalcreator 2.41.92//
CALSCALE:GREGORIAN
METHOD:PUBLISH
UID:61303538-3638-4366-b134-646334633937
X-WR-TIMEZONE:Europe/Berlin
X-LIC-LOCATION:Europe/Berlin
BEGIN:VEVENT
UID:585488-kulturportal@gutach.ortenaukultur.de
DTSTAMP:20260425T003604Z
DESCRIPTION:Kurzbeschreibung:\n Der Schwarzwaldverein Gutach zu seiner Wint
 ersonnwendfeier im Kurpark in Gutach ein.\n Ort:\n Kurpark\n Siedlung 3 a\
 , 77793 Gutach (Schwarzwaldbahn)\n Veranstalter:\n Schwarzwaldverein - Ort
 sgruppe Gutach e.V.\n Termin:\n Beginn: 19.12.2026\, 17:00 Uhr\n Ende: 19.
 12.2026\n Link:\n Zur Detailseite
DTSTART;TZID=Europe/Berlin:20261219T170000
DTEND;TZID=Europe/Berlin:20261219T200000
LOCATION:Kurpark\, Siedlung 3 a\, 77793 Gutach (Schwarzwaldbahn)
SUMMARY:Wintersonnwendfeier\, Kurpark
X-ALT-DESC;FMTTYPE=text/html:<strong>Kurzbeschreibung:</strong><br/>Der Sch
 warzwaldverein Gutach zu seiner Wintersonnwendfeier im Kurpark in Gutach e
 in. <br /><strong>Ort:</strong><br/>Kurpark<br/>Siedlung 3 a\, 77793 Gutac
 h (Schwarzwaldbahn)<br /><strong>Veranstalter:</strong><br/>Schwarzwaldver
 ein - Ortsgruppe Gutach e.V.<br /><strong>Termin:</strong><br/>Beginn: 19.
 12.2026\, 17:00 Uhr<br/>Ende: 19.12.2026<br /><strong>Link:</strong><br/><
 a href='https://gutach.ortenaukultur.de/de/veranstaltungen/detail/veransta
 ltung/id/585488-wintersonnwendfeier/?vt=1'>Zur Detailseite</a>
END:VEVENT
END:VCALENDAR
