BEGIN:VCALENDAR
VERSION:2.0
PRODID:-//gutach.ortenaukultur.de//NONSGML kigkonsult.se iCalcreator 2.41.92//
CALSCALE:GREGORIAN
METHOD:PUBLISH
UID:64613531-3163-4333-b264-326566616139
X-WR-TIMEZONE:Europe/Berlin
X-LIC-LOCATION:Europe/Berlin
BEGIN:VEVENT
UID:585972-kulturportal@gutach.ortenaukultur.de
DTSTAMP:20260425T102239Z
DESCRIPTION:Kurzbeschreibung:\n Verkauf von Baby- und Kinderkleidung\, Spie
 lsachen und vieles mehr...\n Ort:\n Festhalle\n Hauptstr. 40\, 77793 Gutac
 h (Schwarzwaldbahn)\n Veranstalter:\n Verein zur Förderung der Kinder und 
 Jugendlichen in Gutach e.V.\n Termin:\n Beginn: 27.09.2026\, 10:30 Uhr\n E
 nde: 27.09.2026\n Link:\n Zur Detailseite
DTSTART;TZID=Europe/Berlin:20260927T103000
DTEND;TZID=Europe/Berlin:20260927T133000
LOCATION:Festhalle\, Hauptstr. 40\, 77793 Gutach (Schwarzwaldbahn)
SUMMARY:Basar 'Rund ums Kind'\, Festhalle
X-ALT-DESC;FMTTYPE=text/html:<strong>Kurzbeschreibung:</strong><br/>Verkauf
  von Baby- und Kinderkleidung\, Spielsachen und vieles mehr...<br /><stron
 g>Ort:</strong><br/>Festhalle<br/>Hauptstr. 40\, 77793 Gutach (Schwarzwald
 bahn)<br /><strong>Veranstalter:</strong><br/>Verein zur Förderung der Kin
 der und Jugendlichen in Gutach e.V.<br /><strong>Termin:</strong><br/>Begi
 nn: 27.09.2026\, 10:30 Uhr<br/>Ende: 27.09.2026<br /><strong>Link:</strong
 ><br/><a href='https://gutach.ortenaukultur.de/de/veranstaltungen/detail/v
 eranstaltung/id/585972-basar-rund-ums-kind/?vt=1'>Zur Detailseite</a>
END:VEVENT
END:VCALENDAR
