BEGIN:VCALENDAR
VERSION:2.0
PRODID:-//gutach.ortenaukultur.de//NONSGML kigkonsult.se iCalcreator 2.41.92//
CALSCALE:GREGORIAN
METHOD:PUBLISH
UID:62636434-3531-4965-b636-323633383637
X-WR-TIMEZONE:Europe/Berlin
X-LIC-LOCATION:Europe/Berlin
BEGIN:VEVENT
UID:586021-kulturportal@gutach.ortenaukultur.de
DTSTAMP:20260424T211824Z
DESCRIPTION:Kurzbeschreibung:\n Radsportverein Gutach Solidarität e.V.\n Or
 t:\n wird noch bekanntgegeben\n Steingrün 24\, 77793 Gutach (Schwarzwaldba
 hn)\n Veranstalter:\n Radsportverein 'Solidarität' e.V.\n Termin:\n Beginn
 : 24.04.2026\, 19:30 Uhr\n Ende: 24.04.2026\n Link:\n Zur Detailseite
DTSTART;TZID=Europe/Berlin:20260424T193000
DTEND;TZID=Europe/Berlin:20260424T223000
LOCATION:wird noch bekanntgegeben\, Steingrün 24\, 77793 Gutach (Schwarzwal
 dbahn)
SUMMARY:Jahreshauptversammlung\, Restaurant Alexandros im Gasthaus Rössle
X-ALT-DESC;FMTTYPE=text/html:<strong>Kurzbeschreibung:</strong><br/>Radspor
 tverein Gutach Solidarität e.V.<br /><strong>Ort:</strong><br/>wird noch b
 ekanntgegeben<br/>Steingrün 24\, 77793 Gutach (Schwarzwaldbahn)<br /><stro
 ng>Veranstalter:</strong><br/>Radsportverein 'Solidarität' e.V.<br /><stro
 ng>Termin:</strong><br/>Beginn: 24.04.2026\, 19:30 Uhr<br/>Ende: 24.04.202
 6<br /><strong>Link:</strong><br/><a href='https://gutach.ortenaukultur.de
 /de/veranstaltungen/detail/veranstaltung/id/586021-jahreshauptversammlung/
 ?vt=1'>Zur Detailseite</a>
END:VEVENT
END:VCALENDAR
