BEGIN:VCALENDAR
VERSION:2.0
PRODID:-//gutach.ortenaukultur.de//NONSGML kigkonsult.se iCalcreator 2.41.92//
CALSCALE:GREGORIAN
METHOD:PUBLISH
UID:36643037-6637-4134-b863-386131366465
X-WR-TIMEZONE:Europe/Berlin
X-LIC-LOCATION:Europe/Berlin
BEGIN:VEVENT
UID:586075-kulturportal@gutach.ortenaukultur.de
DTSTAMP:20260425T003836Z
DESCRIPTION:Kurzbeschreibung:\n Der etwas andere Gottesdienst in freier Nat
 ur. Wir laden ein zu einem ökumenischen Wandergottesdienst mit gemeinsamen
  Abschluss mit Speis und Trank.\n Ort:\n Kurpark\n Siedlung 3 a\, 77793 Gu
 tach (Schwarzwaldbahn)\n Veranstalter:\n Schwarzwaldverein - Ortsgruppe Gu
 tach e.V.\n Termin:\n Beginn: 25.05.2026\, 10:00 Uhr\n Ende: 25.05.2026\n 
 Link:\n Zur Detailseite
DTSTART;TZID=Europe/Berlin:20260525T100000
DTEND;TZID=Europe/Berlin:20260525T130000
LOCATION:Kurpark\, Siedlung 3 a\, 77793 Gutach (Schwarzwaldbahn)
SUMMARY:Wandergottesdienst\, Kurpark
X-ALT-DESC;FMTTYPE=text/html:<strong>Kurzbeschreibung:</strong><br/>Der etw
 as andere Gottesdienst in freier Natur. Wir laden ein zu einem ökumenische
 n Wandergottesdienst mit gemeinsamen Abschluss mit Speis und Trank.<br /><
 strong>Ort:</strong><br/>Kurpark<br/>Siedlung 3 a\, 77793 Gutach (Schwarzw
 aldbahn)<br /><strong>Veranstalter:</strong><br/>Schwarzwaldverein - Ortsg
 ruppe Gutach e.V.<br /><strong>Termin:</strong><br/>Beginn: 25.05.2026\, 1
 0:00 Uhr<br/>Ende: 25.05.2026<br /><strong>Link:</strong><br/><a href='htt
 ps://gutach.ortenaukultur.de/de/veranstaltungen/detail/veranstaltung/id/58
 6075-wandergottesdienst/?vt=1'>Zur Detailseite</a>
END:VEVENT
END:VCALENDAR
