BEGIN:VCALENDAR
VERSION:2.0
PRODID:-//gutach.ortenaukultur.de//NONSGML kigkonsult.se iCalcreator 2.41.92//
CALSCALE:GREGORIAN
METHOD:PUBLISH
UID:38396265-3561-4337-a232-353965613130
X-WR-TIMEZONE:Europe/Berlin
X-LIC-LOCATION:Europe/Berlin
BEGIN:VEVENT
UID:586078-kulturportal@gutach.ortenaukultur.de
DTSTAMP:20260425T004200Z
DESCRIPTION:Kurzbeschreibung:\n Turn- und Sportverein Gutach 1901 e.V.\n Or
 t:\n Liebich-Sporthalle\n Hauptstr. 16\, 77793 Gutach (Schwarzwaldbahn)\n 
 Veranstalter:\n Turn- und Sportverein Gutach 1901 e.V.\n Termin:\n Beginn:
  03.06.2026\n Ende: 03.06.2026\n Link:\n Zur Detailseite
DTSTART;TZID=Europe/Berlin:20260603T000000
DTEND;TZID=Europe/Berlin:20260603T030000
LOCATION:Liebich-Sporthalle\, Hauptstr. 16\, 77793 Gutach (Schwarzwaldbahn)
SUMMARY:Handball-Dorfsportwoche\, Liebich-Sporthalle
X-ALT-DESC;FMTTYPE=text/html:<strong>Kurzbeschreibung:</strong><br/>Turn- u
 nd Sportverein Gutach 1901 e.V.<br /><strong>Ort:</strong><br/>Liebich-Spo
 rthalle<br/>Hauptstr. 16\, 77793 Gutach (Schwarzwaldbahn)<br /><strong>Ver
 anstalter:</strong><br/>Turn- und Sportverein Gutach 1901 e.V.<br /><stron
 g>Termin:</strong><br/>Beginn: 03.06.2026<br/>Ende: 03.06.2026<br /><stron
 g>Link:</strong><br/><a href='https://gutach.ortenaukultur.de/de/veranstal
 tungen/detail/veranstaltung/id/586078-handball-dorfsportwoche/?vt=1'>Zur D
 etailseite</a>
END:VEVENT
END:VCALENDAR
