BEGIN:VCALENDAR
VERSION:2.0
PRODID:-//gutach.ortenaukultur.de//NONSGML kigkonsult.se iCalcreator 2.41.92//
CALSCALE:GREGORIAN
METHOD:PUBLISH
UID:35313232-6365-4930-b333-333231393439
X-WR-TIMEZONE:Europe/Berlin
X-LIC-LOCATION:Europe/Berlin
BEGIN:VEVENT
UID:586221-kulturportal@gutach.ortenaukultur.de
DTSTAMP:20260425T102701Z
DESCRIPTION:Kurzbeschreibung:\n Bewirtung: LandFrauen Ortsverein Gutach.\n 
 Ort:\n Festhalle\n Hauptstr. 40\, 77793 Gutach (Schwarzwaldbahn)\n Veranst
 alter:\n Gemeindeverwaltung Gutach\n Termin:\n Beginn: 03.05.2026\n Ende: 
 03.05.2026\n Link:\n Zur Detailseite
DTSTART;TZID=Europe/Berlin:20260503T000000
DTEND;TZID=Europe/Berlin:20260503T030000
LOCATION:Festhalle\, Hauptstr. 40\, 77793 Gutach (Schwarzwaldbahn)
SUMMARY:Frühlingsfeier der Senioren\, Festhalle
X-ALT-DESC;FMTTYPE=text/html:<strong>Kurzbeschreibung:</strong><br/>Bewirtu
 ng: LandFrauen Ortsverein Gutach.<br /><strong>Ort:</strong><br/>Festhalle
 <br/>Hauptstr. 40\, 77793 Gutach (Schwarzwaldbahn)<br /><strong>Veranstalt
 er:</strong><br/>Gemeindeverwaltung Gutach<br /><strong>Termin:</strong><b
 r/>Beginn: 03.05.2026<br/>Ende: 03.05.2026<br /><strong>Link:</strong><br/
 ><a href='https://gutach.ortenaukultur.de/de/veranstaltungen/detail/verans
 taltung/id/586221-fruehlingsfeier-der-senioren/?vt=1'>Zur Detailseite</a>
END:VEVENT
END:VCALENDAR
