BEGIN:VCALENDAR
VERSION:2.0
PRODID:-//gutach.ortenaukultur.de//NONSGML kigkonsult.se iCalcreator 2.41.92//
CALSCALE:GREGORIAN
METHOD:PUBLISH
UID:33396136-3839-4461-a238-623263393530
X-WR-TIMEZONE:Europe/Berlin
X-LIC-LOCATION:Europe/Berlin
BEGIN:VEVENT
UID:586224-kulturportal@gutach.ortenaukultur.de
DTSTAMP:20260425T003958Z
DESCRIPTION:Kurzbeschreibung:\n Rundwanderung mit 12\,5 km und 334 Höhenmet
 ern mit herrlichen Aussichtspunkten.\n Ort:\n Parkplatz Dorfmitte\n Haupts
 traße 48\, 77793 Gutach (Schwarzwaldbahn)\n Veranstalter:\n Schwarzwaldver
 ein - Ortsgruppe Gutach e.V.\n Termin:\n Beginn: 03.05.2026\, 09:30 Uhr\n 
 Ende: 03.05.2026\n Link:\n Zur Detailseite
DTSTART;TZID=Europe/Berlin:20260503T093000
DTEND;TZID=Europe/Berlin:20260503T123000
LOCATION:Parkplatz Dorfmitte\, Hauptstraße 48\, 77793 Gutach (Schwarzwaldba
 hn)
SUMMARY:Paradiessteig Hofstetten\, Parkplatz Dorfmitte
X-ALT-DESC;FMTTYPE=text/html:<strong>Kurzbeschreibung:</strong><br/>Rundwan
 derung mit 12\,5 km und 334 Höhenmetern mit herrlichen Aussichtspunkten.<b
 r /><strong>Ort:</strong><br/>Parkplatz Dorfmitte<br/>Hauptstraße 48\, 777
 93 Gutach (Schwarzwaldbahn)<br /><strong>Veranstalter:</strong><br/>Schwar
 zwaldverein - Ortsgruppe Gutach e.V.<br /><strong>Termin:</strong><br/>Beg
 inn: 03.05.2026\, 09:30 Uhr<br/>Ende: 03.05.2026<br /><strong>Link:</stron
 g><br/><a href='https://gutach.ortenaukultur.de/de/veranstaltungen/detail/
 veranstaltung/id/586224-paradiessteig-hofstetten/?vt=1'>Zur Detailseite</a
 >
END:VEVENT
END:VCALENDAR
