BEGIN:VCALENDAR
VERSION:2.0
PRODID:-//gutach.ortenaukultur.de//NONSGML kigkonsult.se iCalcreator 2.41.92//
CALSCALE:GREGORIAN
METHOD:PUBLISH
UID:34616463-3462-4662-a531-343937333262
X-WR-TIMEZONE:Europe/Berlin
X-LIC-LOCATION:Europe/Berlin
BEGIN:VEVENT
UID:586229-kulturportal@gutach.ortenaukultur.de
DTSTAMP:20260424T230100Z
DESCRIPTION:Kurzbeschreibung:\n Wanderführung: Jean-Philippe Naudet\n Ort:
 \n wird noch bekanntgegeben\, Gutach\n Veranstalter:\n Schwarzwaldverein -
  Ortsgruppe Gutach e.V.\n Termin:\n Beginn: 14.06.2026\n Ende: 14.06.2026
 \n Link:\n Zur Detailseite
DTSTART;TZID=Europe/Berlin:20260614T000000
DTEND;TZID=Europe/Berlin:20260614T030000
LOCATION:wird noch bekanntgegeben\, Gutach
SUMMARY:Sternenwanderung zur Kreuzsattelhütte\, wird noch bekanntgegeben
X-ALT-DESC;FMTTYPE=text/html:<strong>Kurzbeschreibung:</strong><br/>Wanderf
 ührung: Jean-Philippe Naudet<br /><strong>Ort:</strong><br/>wird noch beka
 nntgegeben\, Gutach<br /><strong>Veranstalter:</strong><br/>Schwarzwaldver
 ein - Ortsgruppe Gutach e.V.<br /><strong>Termin:</strong><br/>Beginn: 14.
 06.2026<br/>Ende: 14.06.2026<br /><strong>Link:</strong><br/><a href='http
 s://gutach.ortenaukultur.de/de/veranstaltungen/detail/veranstaltung/id/586
 229-sternenwanderung-zur-kreuzsattelhuette/?vt=1'>Zur Detailseite</a>
END:VEVENT
END:VCALENDAR
