BEGIN:VCALENDAR
VERSION:2.0
PRODID:-//gutach.ortenaukultur.de//NONSGML kigkonsult.se iCalcreator 2.41.92//
CALSCALE:GREGORIAN
METHOD:PUBLISH
UID:65326562-3837-4834-a164-306165393432
X-WR-TIMEZONE:Europe/Berlin
X-LIC-LOCATION:Europe/Berlin
BEGIN:VEVENT
UID:587197-kulturportal@gutach.ortenaukultur.de
DTSTAMP:20260425T102420Z
DESCRIPTION:Kurzbeschreibung:\n der SG Gutach/Wolfach\n Ort:\n Liebich-Spor
 thalle\n Hauptstr. 16\, 77793 Gutach (Schwarzwaldbahn)\n Veranstalter:\n T
 urn- und Sportverein Gutach 1901 e.V.\n Termin:\n Beginn: 01.08.2026\n End
 e: 01.08.2026\n Link:\n Zur Detailseite
DTSTART;TZID=Europe/Berlin:20260801T000000
DTEND;TZID=Europe/Berlin:20260801T030000
LOCATION:Liebich-Sporthalle\, Hauptstr. 16\, 77793 Gutach (Schwarzwaldbahn)
SUMMARY:Handball-Camp\, Liebich-Sporthalle
X-ALT-DESC;FMTTYPE=text/html:<strong>Kurzbeschreibung:</strong><br/>der SG 
 Gutach/Wolfach<br /><strong>Ort:</strong><br/>Liebich-Sporthalle<br/>Haupt
 str. 16\, 77793 Gutach (Schwarzwaldbahn)<br /><strong>Veranstalter:</stron
 g><br/>Turn- und Sportverein Gutach 1901 e.V.<br /><strong>Termin:</strong
 ><br/>Beginn: 01.08.2026<br/>Ende: 01.08.2026<br /><strong>Link:</strong><
 br/><a href='https://gutach.ortenaukultur.de/de/veranstaltungen/detail/ver
 anstaltung/id/587197-handball-camp/?vt=1'>Zur Detailseite</a>
END:VEVENT
END:VCALENDAR
