BEGIN:VCALENDAR
VERSION:2.0
PRODID:-//gutach.ortenaukultur.de//NONSGML kigkonsult.se iCalcreator 2.41.92//
CALSCALE:GREGORIAN
METHOD:PUBLISH
UID:38663539-3036-4831-a130-316536643636
X-WR-TIMEZONE:Europe/Berlin
X-LIC-LOCATION:Europe/Berlin
BEGIN:VEVENT
UID:587198-kulturportal@gutach.ortenaukultur.de
DTSTAMP:20260425T004155Z
DESCRIPTION:Kurzbeschreibung:\n Während der Sommerferien bietet das Freilic
 htmuseum jeden Tag ein Programm zum Mitmachen an. Mehr Informationen ab Ju
 li unter www.vogtsbauernhof.de.\n Ort:\n Schwarzwälder Freilichtmuseum Vog
 tsbauernhof\n Vogtsbauernhof\, 77793 Gutach (Schwarzwaldbahn)\n Veranstalt
 er:\n Schwarzwälder Freilichtmuseum Vogtsbauernhof\n Termin:\n Beginn: 02.
 08.2026\n Ende: 02.08.2026\n Link:\n Zur Detailseite
DTSTART;TZID=Europe/Berlin:20260802T000000
DTEND;TZID=Europe/Berlin:20260802T030000
LOCATION:Schwarzwälder Freilichtmuseum Vogtsbauernhof\, Vogtsbauernhof\, 77
 793 Gutach (Schwarzwaldbahn)
SUMMARY:Sommerferien auf dem Vogtsbauernhof\, Schwarzwälder Freilichtmuseum
  Vogtsbauernhof
X-ALT-DESC;FMTTYPE=text/html:<strong>Kurzbeschreibung:</strong><br/>Während
  der Sommerferien bietet das Freilichtmuseum jeden Tag ein Programm zum Mi
 tmachen an. Mehr Informationen ab Juli unter www.vogtsbauernhof.de.<br /><
 strong>Ort:</strong><br/>Schwarzwälder Freilichtmuseum Vogtsbauernhof<br/>
 Vogtsbauernhof\, 77793 Gutach (Schwarzwaldbahn)<br /><strong>Veranstalter:
 </strong><br/>Schwarzwälder Freilichtmuseum Vogtsbauernhof<br /><strong>Te
 rmin:</strong><br/>Beginn: 02.08.2026<br/>Ende: 02.08.2026<br /><strong>Li
 nk:</strong><br/><a href='https://gutach.ortenaukultur.de/de/veranstaltung
 en/detail/veranstaltung/id/587198-sommerferien-auf-dem-vogtsbauernhof/?vt=
 1'>Zur Detailseite</a>
END:VEVENT
END:VCALENDAR
