BEGIN:VCALENDAR
VERSION:2.0
PRODID:-//gutach.ortenaukultur.de//NONSGML kigkonsult.se iCalcreator 2.41.92//
CALSCALE:GREGORIAN
METHOD:PUBLISH
UID:34386331-6431-4662-b730-646665333037
X-WR-TIMEZONE:Europe/Berlin
X-LIC-LOCATION:Europe/Berlin
BEGIN:VEVENT
UID:587200-kulturportal@gutach.ortenaukultur.de
DTSTAMP:20260425T115222Z
DESCRIPTION:Kurzbeschreibung:\n der Freiwilligen Feuerwehr Gutach.\n Ort:\n
  Feuerwehrgerätehaus\n Hauptstraße 14\, 77793 Gutach (Schwarzwaldbahn)\n V
 eranstalter:\n Freiwillige Feuerwehr Gutach\n Termin:\n Beginn: 03.08.2026
 \n Ende: 03.08.2026\n Link:\n Zur Detailseite
DTSTART;TZID=Europe/Berlin:20260803T000000
DTEND;TZID=Europe/Berlin:20260803T030000
LOCATION:Feuerwehrgerätehaus\, Hauptstraße 14\, 77793 Gutach (Schwarzwaldba
 hn)
SUMMARY:Sommerfest\, Feuerwehrgerätehaus
X-ALT-DESC;FMTTYPE=text/html:<strong>Kurzbeschreibung:</strong><br/>der Fre
 iwilligen Feuerwehr Gutach.<br /><strong>Ort:</strong><br/>Feuerwehrgeräte
 haus<br/>Hauptstraße 14\, 77793 Gutach (Schwarzwaldbahn)<br /><strong>Vera
 nstalter:</strong><br/>Freiwillige Feuerwehr Gutach<br /><strong>Termin:</
 strong><br/>Beginn: 03.08.2026<br/>Ende: 03.08.2026<br /><strong>Link:</st
 rong><br/><a href='https://gutach.ortenaukultur.de/de/veranstaltungen/deta
 il/veranstaltung/id/587200-sommerfest/?vt=1'>Zur Detailseite</a>
END:VEVENT
END:VCALENDAR
