BEGIN:VCALENDAR
VERSION:2.0
PRODID:-//gutach.ortenaukultur.de//NONSGML kigkonsult.se iCalcreator 2.41.92//
CALSCALE:GREGORIAN
METHOD:PUBLISH
UID:37376138-3761-4230-b339-353934346163
X-WR-TIMEZONE:Europe/Berlin
X-LIC-LOCATION:Europe/Berlin
BEGIN:VEVENT
UID:587201-kulturportal@gutach.ortenaukultur.de
DTSTAMP:20260425T114556Z
DESCRIPTION:Kurzbeschreibung:\n Die Einladung ist draußen und viele von den
  großartigen Malern der Region haben schon zugesagt. Es wird malerisch.\n 
 Ort:\n Schwarzwälder Freilichtmuseum Vogtsbauernhof\n Vogtsbauernhof\, 777
 93 Gutach (Schwarzwaldbahn)\n Veranstalter:\n Schwarzwälder Freilichtmuseu
 m Vogtsbauernhof\n Termin:\n Beginn: 02.08.2026\n Ende: 02.08.2026\n Link:
 \n Zur Detailseite
DTSTART;TZID=Europe/Berlin:20260802T000000
DTEND;TZID=Europe/Berlin:20260802T030000
LOCATION:Schwarzwälder Freilichtmuseum Vogtsbauernhof\, Vogtsbauernhof\, 77
 793 Gutach (Schwarzwaldbahn)
SUMMARY:Rendezvous der Maler\, Schwarzwälder Freilichtmuseum Vogtsbauernhof
X-ALT-DESC;FMTTYPE=text/html:<strong>Kurzbeschreibung:</strong><br/>Die Ein
 ladung ist draußen und viele von den großartigen Malern der Region haben s
 chon zugesagt. Es wird malerisch.<br /><strong>Ort:</strong><br/>Schwarzwä
 lder Freilichtmuseum Vogtsbauernhof<br/>Vogtsbauernhof\, 77793 Gutach (Sch
 warzwaldbahn)<br /><strong>Veranstalter:</strong><br/>Schwarzwälder Freili
 chtmuseum Vogtsbauernhof<br /><strong>Termin:</strong><br/>Beginn: 02.08.2
 026<br/>Ende: 02.08.2026<br /><strong>Link:</strong><br/><a href='https://
 gutach.ortenaukultur.de/de/veranstaltungen/detail/veranstaltung/id/587201-
 rendezvous-der-maler/?vt=1'>Zur Detailseite</a>
END:VEVENT
END:VCALENDAR
