BEGIN:VCALENDAR
VERSION:2.0
PRODID:-//gutach.ortenaukultur.de//NONSGML kigkonsult.se iCalcreator 2.41.92//
CALSCALE:GREGORIAN
METHOD:PUBLISH
UID:34623431-3332-4035-a261-663036653033
X-WR-TIMEZONE:Europe/Berlin
X-LIC-LOCATION:Europe/Berlin
BEGIN:VEVENT
UID:587224-kulturportal@gutach.ortenaukultur.de
DTSTAMP:20260425T114827Z
DESCRIPTION:Kurzbeschreibung:\n des Akkordeon-Orchesters.\n Ort:\n Festhall
 e\n Hauptstr. 40\, 77793 Gutach (Schwarzwaldbahn)\n Veranstalter:\n Akkord
 eonorchester Gutach e.V.\n Termin:\n Beginn: 11.10.2026\n Ende: 11.10.2026
 \n Link:\n Zur Detailseite
DTSTART;TZID=Europe/Berlin:20261011T000000
DTEND;TZID=Europe/Berlin:20261011T030000
LOCATION:Festhalle\, Hauptstr. 40\, 77793 Gutach (Schwarzwaldbahn)
SUMMARY:Herbstfest\, Festhalle
X-ALT-DESC;FMTTYPE=text/html:<strong>Kurzbeschreibung:</strong><br/>des Akk
 ordeon-Orchesters.<br /><strong>Ort:</strong><br/>Festhalle<br/>Hauptstr. 
 40\, 77793 Gutach (Schwarzwaldbahn)<br /><strong>Veranstalter:</strong><br
 />Akkordeonorchester Gutach e.V.<br /><strong>Termin:</strong><br/>Beginn:
  11.10.2026<br/>Ende: 11.10.2026<br /><strong>Link:</strong><br/><a href='
 https://gutach.ortenaukultur.de/de/veranstaltungen/detail/veranstaltung/id
 /587224-herbstfest/?vt=1'>Zur Detailseite</a>
END:VEVENT
END:VCALENDAR
