BEGIN:VCALENDAR
VERSION:2.0
PRODID:-//gutach.ortenaukultur.de//NONSGML kigkonsult.se iCalcreator 2.41.92//
CALSCALE:GREGORIAN
METHOD:PUBLISH
UID:33323538-3864-4433-b064-313633653836
X-WR-TIMEZONE:Europe/Berlin
X-LIC-LOCATION:Europe/Berlin
BEGIN:VEVENT
UID:587226-kulturportal@gutach.ortenaukultur.de
DTSTAMP:20260425T133034Z
DESCRIPTION:Kurzbeschreibung:\n Freiwillige Feuerwehr Gutach.\n Ort:\n wird
  noch bekanntgegeben\, Gutach\n Veranstalter:\n Freiwillige Feuerwehr Guta
 ch\n Termin:\n Beginn: 17.10.2026\n Ende: 17.10.2026\n Link:\n Zur Details
 eite
DTSTART;TZID=Europe/Berlin:20261017T000000
DTEND;TZID=Europe/Berlin:20261017T030000
LOCATION:wird noch bekanntgegeben\, Gutach
SUMMARY:Herbstschlussprobe\, wird noch bekanntgegeben
X-ALT-DESC;FMTTYPE=text/html:<strong>Kurzbeschreibung:</strong><br/>Freiwil
 lige Feuerwehr Gutach.<br /><strong>Ort:</strong><br/>wird noch bekanntgeg
 eben\, Gutach<br /><strong>Veranstalter:</strong><br/>Freiwillige Feuerweh
 r Gutach<br /><strong>Termin:</strong><br/>Beginn: 17.10.2026<br/>Ende: 17
 .10.2026<br /><strong>Link:</strong><br/><a href='https://gutach.ortenauku
 ltur.de/de/veranstaltungen/detail/veranstaltung/id/587226-herbstschlusspro
 be/?vt=1'>Zur Detailseite</a>
END:VEVENT
END:VCALENDAR
