BEGIN:VCALENDAR
VERSION:2.0
PRODID:-//gutach.ortenaukultur.de//NONSGML kigkonsult.se iCalcreator 2.41.92//
CALSCALE:GREGORIAN
METHOD:PUBLISH
UID:61386362-3332-4933-a365-346332643433
X-WR-TIMEZONE:Europe/Berlin
X-LIC-LOCATION:Europe/Berlin
BEGIN:VEVENT
UID:587242-kulturportal@gutach.ortenaukultur.de
DTSTAMP:20260424T225854Z
DESCRIPTION:Kurzbeschreibung:\n Anschließend Schlachtfest in der Festhalle.
 \n Ort:\n Evangelische Peterskirche\n Kirchstraße\, 77793 Gutach (Schwarzw
 aldbahn)\n Veranstalter:\n Evangelische Kirchengemeinde\n Termin:\n Beginn
 : 08.11.2026\, 09:30 Uhr\n Ende: 08.11.2026\n Link:\n Zur Detailseite
DTSTART;TZID=Europe/Berlin:20261108T093000
DTEND;TZID=Europe/Berlin:20261108T123000
LOCATION:Evangelische Peterskirche\, Kirchstraße\, 77793 Gutach (Schwarzwal
 dbahn)
SUMMARY:Gottesdienst zum Gemeindefest\, Evangelische Peterskirche
X-ALT-DESC;FMTTYPE=text/html:<strong>Kurzbeschreibung:</strong><br/>Anschli
 eßend Schlachtfest in der Festhalle.<br /><strong>Ort:</strong><br/>Evange
 lische Peterskirche<br/>Kirchstraße\, 77793 Gutach (Schwarzwaldbahn)<br />
 <strong>Veranstalter:</strong><br/>Evangelische Kirchengemeinde<br /><stro
 ng>Termin:</strong><br/>Beginn: 08.11.2026\, 09:30 Uhr<br/>Ende: 08.11.202
 6<br /><strong>Link:</strong><br/><a href='https://gutach.ortenaukultur.de
 /de/veranstaltungen/detail/veranstaltung/id/587242-gottesdienst-zum-gemein
 defest/?vt=1'>Zur Detailseite</a>
END:VEVENT
END:VCALENDAR
