BEGIN:VCALENDAR
VERSION:2.0
PRODID:-//gutach.ortenaukultur.de//NONSGML kigkonsult.se iCalcreator 2.41.92//
CALSCALE:GREGORIAN
METHOD:PUBLISH
UID:35366461-6332-4737-b566-616236346661
X-WR-TIMEZONE:Europe/Berlin
X-LIC-LOCATION:Europe/Berlin
BEGIN:VEVENT
UID:587248-kulturportal@gutach.ortenaukultur.de
DTSTAMP:20260425T003801Z
DESCRIPTION:Kurzbeschreibung:\n Schwarzwaldverein Ortsgruppe Gutach e.V.\n 
 Ort:\n wird noch bekanntgegeben\, Gutach\n Veranstalter:\n Schwarzwaldvere
 in - Ortsgruppe Gutach e.V.\n Termin:\n Beginn: 05.12.2026\n Ende: 05.12.2
 026\n Link:\n Zur Detailseite
DTSTART;TZID=Europe/Berlin:20261205T000000
DTEND;TZID=Europe/Berlin:20261205T030000
LOCATION:wird noch bekanntgegeben\, Gutach
SUMMARY:Besuch eines Weihnachtsmarkts\, wird noch bekanntgegeben
X-ALT-DESC;FMTTYPE=text/html:<strong>Kurzbeschreibung:</strong><br/>Schwarz
 waldverein Ortsgruppe Gutach e.V.<br /><strong>Ort:</strong><br/>wird noch
  bekanntgegeben\, Gutach<br /><strong>Veranstalter:</strong><br/>Schwarzwa
 ldverein - Ortsgruppe Gutach e.V.<br /><strong>Termin:</strong><br/>Beginn
 : 05.12.2026<br/>Ende: 05.12.2026<br /><strong>Link:</strong><br/><a href=
 'https://gutach.ortenaukultur.de/de/veranstaltungen/detail/veranstaltung/i
 d/587248-besuch-eines-weihnachtsmarkts/?vt=1'>Zur Detailseite</a>
END:VEVENT
END:VCALENDAR
