BEGIN:VCALENDAR
VERSION:2.0
PRODID:-//gutach.ortenaukultur.de//NONSGML kigkonsult.se iCalcreator 2.41.92//
CALSCALE:GREGORIAN
METHOD:PUBLISH
UID:66323630-6633-4264-b535-616264323464
X-WR-TIMEZONE:Europe/Berlin
X-LIC-LOCATION:Europe/Berlin
BEGIN:VEVENT
UID:587252-kulturportal@gutach.ortenaukultur.de
DTSTAMP:20260425T164723Z
DESCRIPTION:Kurzbeschreibung:\n Heimatpflegerische Wanderung mit den Ortsve
 reinen des Bezirks Kinzigtal unter Leitung von Manfred Krauß zur Burgruine
  Geroldseck.\n Ort:\n Parkplatz Dorfmitte\n Hauptstraße 48\, 77793 Gutach 
 (Schwarzwaldbahn)\n Veranstalter:\n Schwarzwaldverein - Ortsgruppe Gutach 
 e.V.\n Termin:\n Beginn: 08.11.2026\, 09:30 Uhr\n Ende: 08.11.2026\n Link:
 \n Zur Detailseite
DTSTART;TZID=Europe/Berlin:20261108T093000
DTEND;TZID=Europe/Berlin:20261108T123000
LOCATION:Parkplatz Dorfmitte\, Hauptstraße 48\, 77793 Gutach (Schwarzwaldba
 hn)
SUMMARY:Schätze unserer Nachbarn: Geroldseck - Schicksal einer Burg\, Parkp
 latz Dorfmitte
X-ALT-DESC;FMTTYPE=text/html:<strong>Kurzbeschreibung:</strong><br/>Heimatp
 flegerische Wanderung mit den Ortsvereinen des Bezirks Kinzigtal unter Lei
 tung von Manfred Krauß zur Burgruine Geroldseck.<br /><strong>Ort:</strong
 ><br/>Parkplatz Dorfmitte<br/>Hauptstraße 48\, 77793 Gutach (Schwarzwaldba
 hn)<br /><strong>Veranstalter:</strong><br/>Schwarzwaldverein - Ortsgruppe
  Gutach e.V.<br /><strong>Termin:</strong><br/>Beginn: 08.11.2026\, 09:30 
 Uhr<br/>Ende: 08.11.2026<br /><strong>Link:</strong><br/><a href='https://
 gutach.ortenaukultur.de/de/veranstaltungen/detail/veranstaltung/id/587252-
 schaetze-unserer-nachbarn-geroldseck-schicksal-einer-burg/?vt=1'>Zur Detai
 lseite</a>
END:VEVENT
END:VCALENDAR
