BEGIN:VCALENDAR
VERSION:2.0
PRODID:-//gutach.ortenaukultur.de//NONSGML kigkonsult.se iCalcreator 2.41.92//
CALSCALE:GREGORIAN
METHOD:PUBLISH
UID:63326335-6433-4531-a463-303634663861
X-WR-TIMEZONE:Europe/Berlin
X-LIC-LOCATION:Europe/Berlin
BEGIN:VEVENT
UID:587268-kulturportal@gutach.ortenaukultur.de
DTSTAMP:20260425T035747Z
DESCRIPTION:Kurzbeschreibung:\n Bühlersteiner Hexen Gutach e.V.\n Ort:\n wi
 rd noch bekanntgegeben\, Gutach\n Veranstalter:\n Bühlersteiner Hexen Guta
 ch e.V.\n Termin:\n Beginn: 14.11.2026\n Ende: 14.11.2026\n Link:\n Zur De
 tailseite
DTSTART;TZID=Europe/Berlin:20261114T000000
DTEND;TZID=Europe/Berlin:20261114T030000
LOCATION:wird noch bekanntgegeben\, Gutach
SUMMARY:Mitgliederversammlung\, wird noch bekanntgegeben
X-ALT-DESC;FMTTYPE=text/html:<strong>Kurzbeschreibung:</strong><br/>Bühlers
 teiner Hexen Gutach e.V.<br /><strong>Ort:</strong><br/>wird noch bekanntg
 egeben\, Gutach<br /><strong>Veranstalter:</strong><br/>Bühlersteiner Hexe
 n Gutach e.V.<br /><strong>Termin:</strong><br/>Beginn: 14.11.2026<br/>End
 e: 14.11.2026<br /><strong>Link:</strong><br/><a href='https://gutach.orte
 naukultur.de/de/veranstaltungen/detail/veranstaltung/id/587268-mitgliederv
 ersammlung/?vt=1'>Zur Detailseite</a>
END:VEVENT
END:VCALENDAR
