BEGIN:VCALENDAR
VERSION:2.0
PRODID:-//gutach.ortenaukultur.de//NONSGML kigkonsult.se iCalcreator 2.41.92//
CALSCALE:GREGORIAN
METHOD:PUBLISH
UID:38633732-3762-4337-b034-303261626362
X-WR-TIMEZONE:Europe/Berlin
X-LIC-LOCATION:Europe/Berlin
BEGIN:VEVENT
UID:587271-kulturportal@gutach.ortenaukultur.de
DTSTAMP:20260424T225534Z
DESCRIPTION:Kurzbeschreibung:\n evangelische Kirchengemeinde\n Ort:\n Evang
 elische Peterskirche\n Kirchstraße\, 77793 Gutach (Schwarzwaldbahn)\n Vera
 nstalter:\n Evangelische Kirchengemeinde\n Termin:\n Beginn: 13.12.2026\, 
 18:00 Uhr\n Ende: 13.12.2026\n Link:\n Zur Detailseite
DTSTART;TZID=Europe/Berlin:20261213T180000
DTEND;TZID=Europe/Berlin:20261213T210000
LOCATION:Evangelische Peterskirche\, Kirchstraße\, 77793 Gutach (Schwarzwal
 dbahn)
SUMMARY:Adventsliedersingen\, Evangelische Peterskirche
X-ALT-DESC;FMTTYPE=text/html:<strong>Kurzbeschreibung:</strong><br/>evangel
 ische Kirchengemeinde<br /><strong>Ort:</strong><br/>Evangelische Peterski
 rche<br/>Kirchstraße\, 77793 Gutach (Schwarzwaldbahn)<br /><strong>Veranst
 alter:</strong><br/>Evangelische Kirchengemeinde<br /><strong>Termin:</str
 ong><br/>Beginn: 13.12.2026\, 18:00 Uhr<br/>Ende: 13.12.2026<br /><strong>
 Link:</strong><br/><a href='https://gutach.ortenaukultur.de/de/veranstaltu
 ngen/detail/veranstaltung/id/587271-adventsliedersingen/?vt=1'>Zur Details
 eite</a>
END:VEVENT
END:VCALENDAR
