BEGIN:VCALENDAR
VERSION:2.0
PRODID:-//gutach.ortenaukultur.de//NONSGML kigkonsult.se iCalcreator 2.41.92//
CALSCALE:GREGORIAN
METHOD:PUBLISH
UID:38613766-3139-4066-a261-343263386663
X-WR-TIMEZONE:Europe/Berlin
X-LIC-LOCATION:Europe/Berlin
BEGIN:VEVENT
UID:593864-kulturportal@gutach.ortenaukultur.de
DTSTAMP:20260425T033248Z
DESCRIPTION:Kurzbeschreibung:\n Die RC-Freunde Kinzigtal e.V. laden zum Fre
 undschaftsrennen vom 01.-03.05.2026 ein.\n Ort:\n Alter Bahnhof\, Gutach\n
  Veranstalter:\n RC-Freunde Kinzigtal e.V.\n Termin:\n Beginn: 03.05.2026
 \n Ende: 03.05.2026\n Link:\n Zur Detailseite
DTSTART;VALUE=DATE:20260503
DTEND;VALUE=DATE:20260504
LOCATION:Alter Bahnhof\, Gutach
SUMMARY:Freundschaftsrennen\, Alter Bahnhof
X-ALT-DESC;FMTTYPE=text/html:<strong>Kurzbeschreibung:</strong><br/>Die RC-
 Freunde Kinzigtal e.V. laden zum Freundschaftsrennen vom 01.-03.05.2026 ei
 n.<br /><strong>Ort:</strong><br/>Alter Bahnhof\, Gutach<br /><strong>Vera
 nstalter:</strong><br/>RC-Freunde Kinzigtal e.V.<br /><strong>Termin:</str
 ong><br/>Beginn: 03.05.2026<br/>Ende: 03.05.2026<br /><strong>Link:</stron
 g><br/><a href='https://gutach.ortenaukultur.de/de/veranstaltungen/detail/
 veranstaltung/id/593864-freundschaftsrennen/?vt=1'>Zur Detailseite</a>
END:VEVENT
END:VCALENDAR
