BEGIN:VCALENDAR
VERSION:2.0
PRODID:-//gutach.ortenaukultur.de//NONSGML kigkonsult.se iCalcreator 2.41.92//
CALSCALE:GREGORIAN
METHOD:PUBLISH
UID:61396238-3831-4333-b838-656435636237
X-WR-TIMEZONE:Europe/Berlin
X-LIC-LOCATION:Europe/Berlin
BEGIN:VEVENT
UID:528567-kulturportal@gutach.ortenaukultur.de
DTSTAMP:20260425T115245Z
DESCRIPTION:Kurzbeschreibung:\n Während der einwöchigen Herbstferien in Bad
 en-Württemberg dürfen sich die jüngsten Besucher auf ein buntes Programm f
 reuen.\n Ort:\n Schwarzwälder Freilichtmuseum Vogtsbauernhof\n Vogtsbauern
 hof\, 77793 Gutach (Schwarzwaldbahn)\n Veranstalter:\n Schwarzwälder Freil
 ichtmuseum Vogtsbauernhof\n Termin:\n Beginn: 25.10.2026\, 11:00 Uhr\n End
 e: 25.10.2026\n Link:\n Zur Detailseite
DTSTART;TZID=Europe/Berlin:20261025T110000
DTEND;TZID=Europe/Berlin:20261025T140000
LOCATION:Schwarzwälder Freilichtmuseum Vogtsbauernhof\, Vogtsbauernhof\, 77
 793 Gutach (Schwarzwaldbahn)
SUMMARY:Herbstferienprogramm\, Schwarzwälder Freilichtmuseum Vogtsbauernhof
X-ALT-DESC;FMTTYPE=text/html:<strong>Kurzbeschreibung:</strong><br/>Während
  der einwöchigen Herbstferien in Baden-Württemberg dürfen sich die jüngste
 n Besucher auf ein buntes Programm freuen.<br /><strong>Ort:</strong><br/>
 Schwarzwälder Freilichtmuseum Vogtsbauernhof<br/>Vogtsbauernhof\, 77793 Gu
 tach (Schwarzwaldbahn)<br /><strong>Veranstalter:</strong><br/>Schwarzwäld
 er Freilichtmuseum Vogtsbauernhof<br /><strong>Termin:</strong><br/>Beginn
 : 25.10.2026\, 11:00 Uhr<br/>Ende: 25.10.2026<br /><strong>Link:</strong><
 br/><a href='https://gutach.ortenaukultur.de/de/veranstaltungen/detail/ver
 anstaltung/id/528567-herbstferienprogramm/?vt=1'>Zur Detailseite</a>
END:VEVENT
END:VCALENDAR
