BEGIN:VCALENDAR
VERSION:2.0
PRODID:-//gutach.ortenaukultur.de//NONSGML kigkonsult.se iCalcreator 2.41.92//
CALSCALE:GREGORIAN
METHOD:PUBLISH
UID:38366439-6361-4231-b935-633536343065
X-WR-TIMEZONE:Europe/Berlin
X-LIC-LOCATION:Europe/Berlin
BEGIN:VEVENT
UID:559034-kulturportal@gutach.ortenaukultur.de
DTSTAMP:20260425T040124Z
DESCRIPTION:Kurzbeschreibung:\n Der Verein zur Förderung von Kinder und Jug
 endlichen in Gutach e.V. lädt gemeinsam mit der Gemeinde Gutach und den Ki
 rchengemeinden zum St. Martinsfest ein.\n Ort:\n Hasemann-Schule\n Hauptst
 raße 18\, 77793 Gutach (Schwarzwaldbahn)\n Veranstalter:\n Verein zur Förd
 erung der Kinder und Jugendlichen in Gutach e.V.\n Termin:\n Beginn: 11.11
 .2026\, 17:30 Uhr\n Ende: 11.11.2026\n Link:\n Zur Detailseite
DTSTART;TZID=Europe/Berlin:20261111T173000
DTEND;TZID=Europe/Berlin:20261111T203000
LOCATION:Hasemann-Schule\, Hauptstraße 18\, 77793 Gutach (Schwarzwaldbahn)
SUMMARY:Martinsfest zum Laternenumzug\, Hasemann-Schule
X-ALT-DESC;FMTTYPE=text/html:<strong>Kurzbeschreibung:</strong><br/>Der Ver
 ein zur Förderung von Kinder und Jugendlichen in Gutach e.V. lädt gemeinsa
 m mit der Gemeinde Gutach und den Kirchengemeinden zum St. Martinsfest ein
 .<br /><strong>Ort:</strong><br/>Hasemann-Schule<br/>Hauptstraße 18\, 7779
 3 Gutach (Schwarzwaldbahn)<br /><strong>Veranstalter:</strong><br/>Verein 
 zur Förderung der Kinder und Jugendlichen in Gutach e.V.<br /><strong>Term
 in:</strong><br/>Beginn: 11.11.2026\, 17:30 Uhr<br/>Ende: 11.11.2026<br />
 <strong>Link:</strong><br/><a href='https://gutach.ortenaukultur.de/de/ver
 anstaltungen/detail/veranstaltung/id/559034-martinsfest-zum-laternenumzug/
 ?vt=1'>Zur Detailseite</a>
END:VEVENT
END:VCALENDAR
