BEGIN:VCALENDAR
VERSION:2.0
PRODID:-//gutach.ortenaukultur.de//NONSGML kigkonsult.se iCalcreator 2.41.92//
CALSCALE:GREGORIAN
METHOD:PUBLISH
UID:38343161-6636-4661-a366-656133646531
X-WR-TIMEZONE:Europe/Berlin
X-LIC-LOCATION:Europe/Berlin
BEGIN:VEVENT
UID:559048-kulturportal@gutach.ortenaukultur.de
DTSTAMP:20260424T211902Z
DESCRIPTION:Kurzbeschreibung:\n Gottesdienst anschließend Weihnachtslieders
 pielen der Trachtenkapelle Gutach e.V. vor der evangelischen Peterskirche.
 \n Ort:\n Evangelische Peterskirche\n Kirchstraße\, 77793 Gutach (Schwarzw
 aldbahn)\n Veranstalter:\n Evangelische Kirchengemeinde\n Termin:\n Beginn
 : 24.12.2026\, 18:00 Uhr\n Ende: 24.12.2026\n Link:\n Zur Detailseite
DTSTART;TZID=Europe/Berlin:20261224T180000
DTEND;TZID=Europe/Berlin:20261224T210000
LOCATION:Evangelische Peterskirche\, Kirchstraße\, 77793 Gutach (Schwarzwal
 dbahn)
SUMMARY:Heiligabend\, Evangelische Peterskirche
X-ALT-DESC;FMTTYPE=text/html:<strong>Kurzbeschreibung:</strong><br/>Gottesd
 ienst anschließend Weihnachtsliederspielen der Trachtenkapelle Gutach e.V.
  vor der evangelischen Peterskirche.<br /><strong>Ort:</strong><br/>Evange
 lische Peterskirche<br/>Kirchstraße\, 77793 Gutach (Schwarzwaldbahn)<br />
 <strong>Veranstalter:</strong><br/>Evangelische Kirchengemeinde<br /><stro
 ng>Termin:</strong><br/>Beginn: 24.12.2026\, 18:00 Uhr<br/>Ende: 24.12.202
 6<br /><strong>Link:</strong><br/><a href='https://gutach.ortenaukultur.de
 /de/veranstaltungen/detail/veranstaltung/id/559048-heiligabend/?vt=1'>Zur 
 Detailseite</a>
END:VEVENT
END:VCALENDAR
