BEGIN:VCALENDAR
VERSION:2.0
PRODID:-//gutach.ortenaukultur.de//NONSGML kigkonsult.se iCalcreator 2.41.92//
CALSCALE:GREGORIAN
METHOD:PUBLISH
UID:31643236-3834-4466-a637-646634346333
X-WR-TIMEZONE:Europe/Berlin
X-LIC-LOCATION:Europe/Berlin
BEGIN:VEVENT
UID:559049-kulturportal@gutach.ortenaukultur.de
DTSTAMP:20260424T212037Z
DESCRIPTION:Kurzbeschreibung:\n Evangelische Kirchengemeinde.\n Ort:\n Evan
 gelische Peterskirche\n Kirchstraße\, 77793 Gutach (Schwarzwaldbahn)\n Ver
 anstalter:\n Evangelische Kirchengemeinde\n Termin:\n Beginn: 25.12.2026\,
  19:00 Uhr\n Ende: 25.12.2026\n Link:\n Zur Detailseite
DTSTART;TZID=Europe/Berlin:20261225T190000
DTEND;TZID=Europe/Berlin:20261225T220000
LOCATION:Evangelische Peterskirche\, Kirchstraße\, 77793 Gutach (Schwarzwal
 dbahn)
SUMMARY:1. Christfest\, Evangelische Peterskirche
X-ALT-DESC;FMTTYPE=text/html:<strong>Kurzbeschreibung:</strong><br/>Evangel
 ische Kirchengemeinde.<br /><strong>Ort:</strong><br/>Evangelische Petersk
 irche<br/>Kirchstraße\, 77793 Gutach (Schwarzwaldbahn)<br /><strong>Verans
 talter:</strong><br/>Evangelische Kirchengemeinde<br /><strong>Termin:</st
 rong><br/>Beginn: 25.12.2026\, 19:00 Uhr<br/>Ende: 25.12.2026<br /><strong
 >Link:</strong><br/><a href='https://gutach.ortenaukultur.de/de/veranstalt
 ungen/detail/veranstaltung/id/559049-1-christfest/?vt=1'>Zur Detailseite</
 a>
END:VEVENT
END:VCALENDAR
