BEGIN:VCALENDAR
VERSION:2.0
PRODID:-//gutach.ortenaukultur.de//NONSGML kigkonsult.se iCalcreator 2.41.92//
CALSCALE:GREGORIAN
METHOD:PUBLISH
UID:32393565-6335-4633-a263-356261343130
X-WR-TIMEZONE:Europe/Berlin
X-LIC-LOCATION:Europe/Berlin
BEGIN:VEVENT
UID:559050-kulturportal@gutach.ortenaukultur.de
DTSTAMP:20260424T212057Z
DESCRIPTION:Kurzbeschreibung:\n Mit dem Posaunenchor aus Hornberg.\n Ort:\n
  Evangelische Peterskirche\n Kirchstraße\, 77793 Gutach (Schwarzwaldbahn)
 \n Veranstalter:\n Evangelische Kirchengemeinde\n Termin:\n Beginn: 26.12.
 2026\, 09:30 Uhr\n Ende: 26.12.2026\n Link:\n Zur Detailseite
DTSTART;TZID=Europe/Berlin:20261226T093000
DTEND;TZID=Europe/Berlin:20261226T123000
LOCATION:Evangelische Peterskirche\, Kirchstraße\, 77793 Gutach (Schwarzwal
 dbahn)
SUMMARY:2. Christfest\, Evangelische Peterskirche
X-ALT-DESC;FMTTYPE=text/html:<strong>Kurzbeschreibung:</strong><br/>Mit dem
  Posaunenchor aus Hornberg.<br /><strong>Ort:</strong><br/>Evangelische Pe
 terskirche<br/>Kirchstraße\, 77793 Gutach (Schwarzwaldbahn)<br /><strong>V
 eranstalter:</strong><br/>Evangelische Kirchengemeinde<br /><strong>Termin
 :</strong><br/>Beginn: 26.12.2026\, 09:30 Uhr<br/>Ende: 26.12.2026<br /><s
 trong>Link:</strong><br/><a href='https://gutach.ortenaukultur.de/de/veran
 staltungen/detail/veranstaltung/id/559050-2-christfest/?vt=1'>Zur Detailse
 ite</a>
END:VEVENT
END:VCALENDAR
