BEGIN:VCALENDAR
VERSION:2.0
PRODID:-//gutach.ortenaukultur.de//NONSGML kigkonsult.se iCalcreator 2.41.92//
CALSCALE:GREGORIAN
METHOD:PUBLISH
UID:65616332-3034-4136-b237-376361623734
X-WR-TIMEZONE:Europe/Berlin
X-LIC-LOCATION:Europe/Berlin
BEGIN:VEVENT
UID:561432-kulturportal@gutach.ortenaukultur.de
DTSTAMP:20260424T225912Z
DESCRIPTION:Kurzbeschreibung:\n Bei Glühwein und Schinken (ab 11:30 Uhr bis
  ca. 15:30 Uhr).\n Ort:\n Farrenkopf\, Gutach\n Veranstalter:\n Schwarzwal
 dverein - Ortsgruppe Gutach e.V.\n Termin:\n Beginn: 01.01.2027\, 11:30 Uh
 r\n Ende: 01.01.2027\n Link:\n Zur Detailseite
DTSTART;TZID=Europe/Berlin:20270101T113000
DTEND;TZID=Europe/Berlin:20270101T143000
LOCATION:Farrenkopf\, Gutach
SUMMARY:Neujahrshock\, Farrenkopf
X-ALT-DESC;FMTTYPE=text/html:<strong>Kurzbeschreibung:</strong><br/>Bei Glü
 hwein und Schinken (ab 11:30 Uhr bis ca. 15:30 Uhr).<br /><strong>Ort:</st
 rong><br/>Farrenkopf\, Gutach<br /><strong>Veranstalter:</strong><br/>Schw
 arzwaldverein - Ortsgruppe Gutach e.V.<br /><strong>Termin:</strong><br/>B
 eginn: 01.01.2027\, 11:30 Uhr<br/>Ende: 01.01.2027<br /><strong>Link:</str
 ong><br/><a href='https://gutach.ortenaukultur.de/de/veranstaltungen/detai
 l/veranstaltung/id/561432-neujahrshock/?vt=1'>Zur Detailseite</a>
END:VEVENT
END:VCALENDAR
