BEGIN:VCALENDAR
VERSION:2.0
PRODID:-//gutach.ortenaukultur.de//NONSGML kigkonsult.se iCalcreator 2.41.92//
CALSCALE:GREGORIAN
METHOD:PUBLISH
UID:39376366-3531-4232-a665-373734636137
X-WR-TIMEZONE:Europe/Berlin
X-LIC-LOCATION:Europe/Berlin
BEGIN:VEVENT
UID:581558-kulturportal@gutach.ortenaukultur.de
DTSTAMP:20260424T230915Z
DESCRIPTION:Kurzbeschreibung:\n Ende November findet in der Gutacher Festha
 lle die große Ausstellung der Hobbykünstler Gutachtal e.V. statt.\n Ort:\n
  Festhalle\n Hauptstr. 40\, 77793 Gutach (Schwarzwaldbahn)\n Veranstalter:
 \n Hobbykünstler Gutachtal e.V.\n Termin:\n Beginn: 22.11.2026\, 11:00 Uhr
 \n Ende: 22.11.2026\n Link:\n Zur Detailseite
DTSTART;TZID=Europe/Berlin:20261122T110000
DTEND;TZID=Europe/Berlin:20261122T140000
LOCATION:Festhalle\, Hauptstr. 40\, 77793 Gutach (Schwarzwaldbahn)
SUMMARY:Hobbykünstlerausstellung\, Festhalle
X-ALT-DESC;FMTTYPE=text/html:<strong>Kurzbeschreibung:</strong><br/>Ende No
 vember findet in der Gutacher Festhalle die große Ausstellung der Hobbykün
 stler Gutachtal e.V. statt. <br /><strong>Ort:</strong><br/>Festhalle<br/>
 Hauptstr. 40\, 77793 Gutach (Schwarzwaldbahn)<br /><strong>Veranstalter:</
 strong><br/>Hobbykünstler Gutachtal e.V.<br /><strong>Termin:</strong><br/
 >Beginn: 22.11.2026\, 11:00 Uhr<br/>Ende: 22.11.2026<br /><strong>Link:</s
 trong><br/><a href='https://gutach.ortenaukultur.de/de/veranstaltungen/det
 ail/veranstaltung/id/581558-hobbykuenstlerausstellung/?vt=1'>Zur Detailsei
 te</a>
END:VEVENT
END:VCALENDAR
