BEGIN:VCALENDAR
VERSION:2.0
PRODID:-//gutach.ortenaukultur.de//NONSGML kigkonsult.se iCalcreator 2.41.92//
CALSCALE:GREGORIAN
METHOD:PUBLISH
UID:38333835-3131-4166-b435-626634616237
X-WR-TIMEZONE:Europe/Berlin
X-LIC-LOCATION:Europe/Berlin
BEGIN:VEVENT
UID:581732-kulturportal@gutach.ortenaukultur.de
DTSTAMP:20260425T164837Z
DESCRIPTION:Kurzbeschreibung:\n Ein gemeinsames Kaffeetrinken findet im Pro
 benraum des Gesangvereins „Eintracht“ im Gemeindehaus statt.\n Ort:\n Geme
 indehaus\n Hauptstraße 17\, 77793 Gutach (Schwarzwaldbahn)\n Veranstalter:
 \n Gesangverein 'Eintracht' Gutach e.V.\n Termin:\n Beginn: 02.09.2026\, 1
 5:00 Uhr\n Ende: 02.09.2026\n Link:\n Zur Detailseite
DTSTART;TZID=Europe/Berlin:20260902T150000
DTEND;TZID=Europe/Berlin:20260902T180000
LOCATION:Gemeindehaus\, Hauptstraße 17\, 77793 Gutach (Schwarzwaldbahn)
SUMMARY:Bürgercafé\, Gemeindehaus
X-ALT-DESC;FMTTYPE=text/html:<strong>Kurzbeschreibung:</strong><br/>Ein gem
 einsames Kaffeetrinken findet im Probenraum des Gesangvereins „Eintracht“ 
 im Gemeindehaus statt.<br /><strong>Ort:</strong><br/>Gemeindehaus<br/>Hau
 ptstraße 17\, 77793 Gutach (Schwarzwaldbahn)<br /><strong>Veranstalter:</s
 trong><br/>Gesangverein 'Eintracht' Gutach e.V.<br /><strong>Termin:</stro
 ng><br/>Beginn: 02.09.2026\, 15:00 Uhr<br/>Ende: 02.09.2026<br /><strong>L
 ink:</strong><br/><a href='https://gutach.ortenaukultur.de/de/veranstaltun
 gen/detail/veranstaltung/id/581732-buergercafe/?vt=1'>Zur Detailseite</a>
END:VEVENT
END:VCALENDAR
