BEGIN:VCALENDAR
VERSION:2.0
PRODID:-//gutach.ortenaukultur.de//NONSGML kigkonsult.se iCalcreator 2.41.92//
CALSCALE:GREGORIAN
METHOD:PUBLISH
UID:30643135-3835-4830-a136-343864393435
X-WR-TIMEZONE:Europe/Berlin
X-LIC-LOCATION:Europe/Berlin
BEGIN:VEVENT
UID:581747-kulturportal@gutach.ortenaukultur.de
DTSTAMP:20260425T110538Z
DESCRIPTION:Kurzbeschreibung:\n Am Samstag\, den 14.11.2026 lädt der Schwar
 zwaldverein Gutach zu seiner traditionellen Wanderung „Tritt- und treffsic
 her“ ein.\n Ort:\n Parkplatz Dorfmitte\n Hauptstraße 48\, 77793 Gutach (Sc
 hwarzwaldbahn)\n Veranstalter:\n Schwarzwaldverein - Ortsgruppe Gutach e.V
 .\n Termin:\n Beginn: 14.11.2026\, 13:00 Uhr\n Ende: 14.11.2026\n Link:\n 
 Zur Detailseite
DTSTART;TZID=Europe/Berlin:20261114T130000
DTEND;TZID=Europe/Berlin:20261114T160000
LOCATION:Parkplatz Dorfmitte\, Hauptstraße 48\, 77793 Gutach (Schwarzwaldba
 hn)
SUMMARY:Tritt- und treffsicher \, Parkplatz Dorfmitte
X-ALT-DESC;FMTTYPE=text/html:<strong>Kurzbeschreibung:</strong><br/>Am Sams
 tag\, den 14.11.2026 lädt der Schwarzwaldverein Gutach zu seiner tradition
 ellen Wanderung „Tritt- und treffsicher“ ein.<br /><strong>Ort:</strong><b
 r/>Parkplatz Dorfmitte<br/>Hauptstraße 48\, 77793 Gutach (Schwarzwaldbahn)
 <br /><strong>Veranstalter:</strong><br/>Schwarzwaldverein - Ortsgruppe Gu
 tach e.V.<br /><strong>Termin:</strong><br/>Beginn: 14.11.2026\, 13:00 Uhr
 <br/>Ende: 14.11.2026<br /><strong>Link:</strong><br/><a href='https://gut
 ach.ortenaukultur.de/de/veranstaltungen/detail/veranstaltung/id/581747-tri
 tt-und-treffsicher/?vt=1'>Zur Detailseite</a>
END:VEVENT
END:VCALENDAR
