BEGIN:VCALENDAR
VERSION:2.0
PRODID:-//gutach.ortenaukultur.de//NONSGML kigkonsult.se iCalcreator 2.41.92//
CALSCALE:GREGORIAN
METHOD:PUBLISH
UID:66643830-3336-4533-b936-633066323764
X-WR-TIMEZONE:Europe/Berlin
X-LIC-LOCATION:Europe/Berlin
BEGIN:VEVENT
UID:583103-kulturportal@gutach.ortenaukultur.de
DTSTAMP:20260424T230050Z
DESCRIPTION:Kurzbeschreibung:\n Das Schwarzwälder Freilichtmuseum Vogtsbaue
 rnhof in Gutach öffnet am dritten Advent erneut seine Tore zu einem der be
 liebtesten Höhepunkte des Museumsjahres.\n Ort:\n Schwarzwälder Freilichtm
 useum Vogtsbauernhof\n Vogtsbauernhof\, 77793 Gutach (Schwarzwaldbahn)\n V
 eranstalter:\n Schwarzwälder Freilichtmuseum Vogtsbauernhof\n Termin:\n Be
 ginn: 12.12.2026\, 14:00 Uhr\n Ende: 12.12.2026\n Tickets:\n Der Eintritts
 preis (ab 18 Jahren) beträgt 6\,-€ pro Person.\n Kinder und Jugendliche er
 halten kostenlosen Eintritt.\n Link:\n Zur Detailseite
DTSTART;TZID=Europe/Berlin:20261212T140000
DTEND;TZID=Europe/Berlin:20261212T170000
LOCATION:Schwarzwälder Freilichtmuseum Vogtsbauernhof\, Vogtsbauernhof\, 77
 793 Gutach (Schwarzwaldbahn)
SUMMARY:Weihnachtsdorf im Vogtsbauernhof\, Schwarzwälder Freilichtmuseum Vo
 gtsbauernhof
X-ALT-DESC;FMTTYPE=text/html:<strong>Kurzbeschreibung:</strong><br/>Das Sch
 warzwälder Freilichtmuseum Vogtsbauernhof in Gutach öffnet am dritten Adve
 nt erneut seine Tore zu einem der beliebtesten Höhepunkte des Museumsjahre
 s.<br /><strong>Ort:</strong><br/>Schwarzwälder Freilichtmuseum Vogtsbauer
 nhof<br/>Vogtsbauernhof\, 77793 Gutach (Schwarzwaldbahn)<br /><strong>Vera
 nstalter:</strong><br/>Schwarzwälder Freilichtmuseum Vogtsbauernhof<br /><
 strong>Termin:</strong><br/>Beginn: 12.12.2026\, 14:00 Uhr<br/>Ende: 12.12
 .2026<br /><strong>Tickets: </strong><br/>Der Eintrittspreis (ab 18 Jahren
 ) beträgt 6\,-€ pro Person.<br />\nKinder und Jugendliche erhalten kostenl
 osen Eintritt.<br /><strong>Link:</strong><br/><a href='https://gutach.ort
 enaukultur.de/de/veranstaltungen/detail/veranstaltung/id/583103-weihnachts
 dorf-im-vogtsbauernhof/?vt=1'>Zur Detailseite</a>
END:VEVENT
END:VCALENDAR
