BEGIN:VCALENDAR
VERSION:2.0
PRODID:-//gutach.ortenaukultur.de//NONSGML kigkonsult.se iCalcreator 2.41.92//
CALSCALE:GREGORIAN
METHOD:PUBLISH
UID:39323532-6634-4435-b238-663336353636
X-WR-TIMEZONE:Europe/Berlin
X-LIC-LOCATION:Europe/Berlin
BEGIN:VEVENT
UID:586022-kulturportal@gutach.ortenaukultur.de
DTSTAMP:20260424T195716Z
DESCRIPTION:Kurzbeschreibung:\n Hobbykünstler Gutachtal e.V.\n Ort:\n wird 
 noch bekanntgegeben\, Gutach\n Veranstalter:\n Hobbykünstler Gutachtal e.V
 .\n Termin:\n Beginn: 22.05.2026\n Ende: 22.05.2026\n Link:\n Zur Detailse
 ite
DTSTART;TZID=Europe/Berlin:20260522T000000
DTEND;TZID=Europe/Berlin:20260522T030000
LOCATION:wird noch bekanntgegeben\, Gutach
SUMMARY:Jahreshauptversammlung\, wird noch bekanntgegeben
X-ALT-DESC;FMTTYPE=text/html:<strong>Kurzbeschreibung:</strong><br/>Hobbykü
 nstler Gutachtal e.V.<br /><strong>Ort:</strong><br/>wird noch bekanntgege
 ben\, Gutach<br /><strong>Veranstalter:</strong><br/>Hobbykünstler Gutacht
 al e.V.<br /><strong>Termin:</strong><br/>Beginn: 22.05.2026<br/>Ende: 22.
 05.2026<br /><strong>Link:</strong><br/><a href='https://gutach.ortenaukul
 tur.de/de/veranstaltungen/detail/veranstaltung/id/586022-jahreshauptversam
 mlung/?vt=1'>Zur Detailseite</a>
END:VEVENT
END:VCALENDAR
