BEGIN:VCALENDAR
VERSION:2.0
PRODID:-//gutach.ortenaukultur.de//NONSGML kigkonsult.se iCalcreator 2.41.92//
CALSCALE:GREGORIAN
METHOD:PUBLISH
UID:35346331-3437-4236-a234-343136363166
X-WR-TIMEZONE:Europe/Berlin
X-LIC-LOCATION:Europe/Berlin
BEGIN:VEVENT
UID:586023-kulturportal@gutach.ortenaukultur.de
DTSTAMP:20260424T194316Z
DESCRIPTION:Kurzbeschreibung:\n Mit Abendmahl.\n Ort:\n Evangelische Peters
 kirche\n Kirchstraße\, 77793 Gutach (Schwarzwaldbahn)\n Veranstalter:\n Ev
 angelische Kirchengemeinde\n Termin:\n Beginn: 26.04.2026\, 10:00 Uhr\n En
 de: 26.04.2026\n Link:\n Zur Detailseite
DTSTART;TZID=Europe/Berlin:20260426T100000
DTEND;TZID=Europe/Berlin:20260426T130000
LOCATION:Evangelische Peterskirche\, Kirchstraße\, 77793 Gutach (Schwarzwal
 dbahn)
SUMMARY:Konfirmation\, Evangelische Peterskirche
X-ALT-DESC;FMTTYPE=text/html:<strong>Kurzbeschreibung:</strong><br/>Mit Abe
 ndmahl.<br /><strong>Ort:</strong><br/>Evangelische Peterskirche<br/>Kirch
 straße\, 77793 Gutach (Schwarzwaldbahn)<br /><strong>Veranstalter:</strong
 ><br/>Evangelische Kirchengemeinde<br /><strong>Termin:</strong><br/>Begin
 n: 26.04.2026\, 10:00 Uhr<br/>Ende: 26.04.2026<br /><strong>Link:</strong>
 <br/><a href='https://gutach.ortenaukultur.de/de/veranstaltungen/detail/ve
 ranstaltung/id/586023-konfirmation/?vt=1'>Zur Detailseite</a>
END:VEVENT
END:VCALENDAR
