BEGIN:VCALENDAR
VERSION:2.0
PRODID:-//gutach.ortenaukultur.de//NONSGML kigkonsult.se iCalcreator 2.41.92//
CALSCALE:GREGORIAN
METHOD:PUBLISH
UID:31306565-6235-4738-b463-626365386165
X-WR-TIMEZONE:Europe/Berlin
X-LIC-LOCATION:Europe/Berlin
BEGIN:VEVENT
UID:586070-kulturportal@gutach.ortenaukultur.de
DTSTAMP:20260424T214549Z
DESCRIPTION:Kurzbeschreibung:\n Die evangelische Kirchengemeinde Gutach läd
 t zum Feldgottesdienst ein.\n Ort:\n Schwarzwälder Freilichtmuseum Vogtsba
 uernhof\n Vogtsbauernhof\, 77793 Gutach (Schwarzwaldbahn)\n Veranstalter:
 \n Evangelische Kirchengemeinde\n Termin:\n Beginn: 14.05.2026\, 10:00 Uhr
 \n Ende: 14.05.2026\n Link:\n Zur Detailseite
DTSTART;TZID=Europe/Berlin:20260514T100000
DTEND;TZID=Europe/Berlin:20260514T130000
LOCATION:Schwarzwälder Freilichtmuseum Vogtsbauernhof\, Vogtsbauernhof\, 77
 793 Gutach (Schwarzwaldbahn)
SUMMARY:Gottesdienst unter freiem Himmel\, Schwarzwälder Freilichtmuseum Vo
 gtsbauernhof
X-ALT-DESC;FMTTYPE=text/html:<strong>Kurzbeschreibung:</strong><br/>Die eva
 ngelische Kirchengemeinde Gutach lädt zum Feldgottesdienst ein.<br /><stro
 ng>Ort:</strong><br/>Schwarzwälder Freilichtmuseum Vogtsbauernhof<br/>Vogt
 sbauernhof\, 77793 Gutach (Schwarzwaldbahn)<br /><strong>Veranstalter:</st
 rong><br/>Evangelische Kirchengemeinde<br /><strong>Termin:</strong><br/>B
 eginn: 14.05.2026\, 10:00 Uhr<br/>Ende: 14.05.2026<br /><strong>Link:</str
 ong><br/><a href='https://gutach.ortenaukultur.de/de/veranstaltungen/detai
 l/veranstaltung/id/586070-gottesdienst-unter-freiem-himmel/?vt=1'>Zur Deta
 ilseite</a>
END:VEVENT
END:VCALENDAR
