BEGIN:VCALENDAR
VERSION:2.0
PRODID:-//gutach.ortenaukultur.de//NONSGML kigkonsult.se iCalcreator 2.41.92//
CALSCALE:GREGORIAN
METHOD:PUBLISH
UID:35333139-6333-4134-a138-383735386236
X-WR-TIMEZONE:Europe/Berlin
X-LIC-LOCATION:Europe/Berlin
BEGIN:VEVENT
UID:586209-kulturportal@gutach.ortenaukultur.de
DTSTAMP:20260425T121253Z
DESCRIPTION:Kurzbeschreibung:\n der Trachtenkapelle Gutach e.V.\n Ort:\n Ku
 rpark\n Siedlung 3 a\, 77793 Gutach (Schwarzwaldbahn)\n Veranstalter:\n Tr
 achtenkapelle Gutach e.V.\n Termin:\n Beginn: 25.07.2026\n Ende: 25.07.202
 6\n Link:\n Zur Detailseite
DTSTART;TZID=Europe/Berlin:20260725T000000
DTEND;TZID=Europe/Berlin:20260725T030000
LOCATION:Kurpark\, Siedlung 3 a\, 77793 Gutach (Schwarzwaldbahn)
SUMMARY:Sommerfest\, Kurpark
X-ALT-DESC;FMTTYPE=text/html:<strong>Kurzbeschreibung:</strong><br/>der Tra
 chtenkapelle Gutach e.V.<br /><strong>Ort:</strong><br/>Kurpark<br/>Siedlu
 ng 3 a\, 77793 Gutach (Schwarzwaldbahn)<br /><strong>Veranstalter:</strong
 ><br/>Trachtenkapelle Gutach e.V.<br /><strong>Termin:</strong><br/>Beginn
 : 25.07.2026<br/>Ende: 25.07.2026<br /><strong>Link:</strong><br/><a href=
 'https://gutach.ortenaukultur.de/de/veranstaltungen/detail/veranstaltung/i
 d/586209-sommerfest/?vt=1'>Zur Detailseite</a>
END:VEVENT
END:VCALENDAR
