BEGIN:VCALENDAR
VERSION:2.0
PRODID:-//gutach.ortenaukultur.de//NONSGML kigkonsult.se iCalcreator 2.41.92//
CALSCALE:GREGORIAN
METHOD:PUBLISH
UID:39623138-6463-4033-b031-343163346438
X-WR-TIMEZONE:Europe/Berlin
X-LIC-LOCATION:Europe/Berlin
BEGIN:VEVENT
UID:586212-kulturportal@gutach.ortenaukultur.de
DTSTAMP:20260425T024054Z
DESCRIPTION:Kurzbeschreibung:\n Unsere heimischen Akkordeongrößen trumpfen 
 wieder mit ihrer bekannt verwegenen Mischung aus Tradition und Moderne auf
 .\n Ort:\n Schwarzwälder Freilichtmuseum Vogtsbauernhof\n Vogtsbauernhof\,
  77793 Gutach (Schwarzwaldbahn)\n Veranstalter:\n Akkordeonorchester Gutac
 h e.V.\n Termin:\n Beginn: 26.07.2026\, 13:00 Uhr\n Ende: 26.07.2026\n Lin
 k:\n Zur Detailseite
DTSTART;TZID=Europe/Berlin:20260726T130000
DTEND;TZID=Europe/Berlin:20260726T160000
LOCATION:Schwarzwälder Freilichtmuseum Vogtsbauernhof\, Vogtsbauernhof\, 77
 793 Gutach (Schwarzwaldbahn)
SUMMARY:Platzkonzert: Akkordeon-Orchester Gutach\, Schwarzwälder Freilichtm
 useum Vogtsbauernhof
X-ALT-DESC;FMTTYPE=text/html:<strong>Kurzbeschreibung:</strong><br/>Unsere 
 heimischen Akkordeongrößen trumpfen wieder mit ihrer bekannt verwegenen Mi
 schung aus Tradition und Moderne auf.<br /><strong>Ort:</strong><br/>Schwa
 rzwälder Freilichtmuseum Vogtsbauernhof<br/>Vogtsbauernhof\, 77793 Gutach 
 (Schwarzwaldbahn)<br /><strong>Veranstalter:</strong><br/>Akkordeonorchest
 er Gutach e.V.<br /><strong>Termin:</strong><br/>Beginn: 26.07.2026\, 13:0
 0 Uhr<br/>Ende: 26.07.2026<br /><strong>Link:</strong><br/><a href='https:
 //gutach.ortenaukultur.de/de/veranstaltungen/detail/veranstaltung/id/58621
 2-platzkonzert-akkordeon-orchester-gutach/?vt=1'>Zur Detailseite</a>
END:VEVENT
END:VCALENDAR
