BEGIN:VCALENDAR
VERSION:2.0
PRODID:-//gutach.ortenaukultur.de//NONSGML kigkonsult.se iCalcreator 2.41.92//
CALSCALE:GREGORIAN
METHOD:PUBLISH
UID:61373837-3230-4562-b532-353331623136
X-WR-TIMEZONE:Europe/Berlin
X-LIC-LOCATION:Europe/Berlin
BEGIN:VEVENT
UID:586219-kulturportal@gutach.ortenaukultur.de
DTSTAMP:20260424T195814Z
DESCRIPTION:Kurzbeschreibung:\n Verein zur Förderung der Kinder und Jugendl
 ichen in Gutach e.V.\n Ort:\n wird noch bekanntgegeben\n Steingrün 24\, 77
 793 Gutach (Schwarzwaldbahn)\n Veranstalter:\n Verein zur Förderung der Ki
 nder und Jugendlichen in Gutach e.V.\n Termin:\n Beginn: 29.04.2026\, 19:0
 0 Uhr\n Ende: 29.04.2026\n Link:\n Zur Detailseite
DTSTART;TZID=Europe/Berlin:20260429T190000
DTEND;TZID=Europe/Berlin:20260429T220000
LOCATION:wird noch bekanntgegeben\, Steingrün 24\, 77793 Gutach (Schwarzwal
 dbahn)
SUMMARY:Jahreshauptversammlung\, Restaurant Alexandros im Gasthaus Rössle
X-ALT-DESC;FMTTYPE=text/html:<strong>Kurzbeschreibung:</strong><br/>Verein 
 zur Förderung der Kinder und Jugendlichen in Gutach e.V.<br /><strong>Ort:
 </strong><br/>wird noch bekanntgegeben<br/>Steingrün 24\, 77793 Gutach (Sc
 hwarzwaldbahn)<br /><strong>Veranstalter:</strong><br/>Verein zur Förderun
 g der Kinder und Jugendlichen in Gutach e.V.<br /><strong>Termin:</strong>
 <br/>Beginn: 29.04.2026\, 19:00 Uhr<br/>Ende: 29.04.2026<br /><strong>Link
 :</strong><br/><a href='https://gutach.ortenaukultur.de/de/veranstaltungen
 /detail/veranstaltung/id/586219-jahreshauptversammlung/?vt=1'>Zur Detailse
 ite</a>
END:VEVENT
END:VCALENDAR
