BEGIN:VCALENDAR
VERSION:2.0
PRODID:-//gutach.ortenaukultur.de//NONSGML kigkonsult.se iCalcreator 2.41.92//
CALSCALE:GREGORIAN
METHOD:PUBLISH
UID:64663136-3133-4335-a137-663330303337
X-WR-TIMEZONE:Europe/Berlin
X-LIC-LOCATION:Europe/Berlin
BEGIN:VEVENT
UID:586220-kulturportal@gutach.ortenaukultur.de
DTSTAMP:20260424T201108Z
DESCRIPTION:Kurzbeschreibung:\n Am Freitag\, dem 1. Mai 2026\, findet im Gu
 tacher Kurpark die Maiausstellung der Hobbykünstler Gutachtal e.V. statt.
 \n Ort:\n Kurpark\n Siedlung 3 a\, 77793 Gutach (Schwarzwaldbahn)\n Verans
 talter:\n Hobbykünstler Gutachtal e.V.\n Termin:\n Beginn: 01.05.2026\, 11
 :00 Uhr\n Ende: 01.05.2026\n Link:\n Zur Detailseite
DTSTART;TZID=Europe/Berlin:20260501T110000
DTEND;TZID=Europe/Berlin:20260501T140000
LOCATION:Kurpark\, Siedlung 3 a\, 77793 Gutach (Schwarzwaldbahn)
SUMMARY:Maiausstellung im Gutacher Kurpark\, Kurpark
X-ALT-DESC;FMTTYPE=text/html:<strong>Kurzbeschreibung:</strong><br/>Am Frei
 tag\, dem 1. Mai 2026\, findet im Gutacher Kurpark die Maiausstellung der 
 Hobbykünstler Gutachtal e.V. statt. <br /><strong>Ort:</strong><br/>Kurpar
 k<br/>Siedlung 3 a\, 77793 Gutach (Schwarzwaldbahn)<br /><strong>Veranstal
 ter:</strong><br/>Hobbykünstler Gutachtal e.V.<br /><strong>Termin:</stron
 g><br/>Beginn: 01.05.2026\, 11:00 Uhr<br/>Ende: 01.05.2026<br /><strong>Li
 nk:</strong><br/><a href='https://gutach.ortenaukultur.de/de/veranstaltung
 en/detail/veranstaltung/id/586220-maiausstellung-im-gutacher-kurpark/?vt=1
 '>Zur Detailseite</a>
END:VEVENT
END:VCALENDAR
