BEGIN:VCALENDAR
VERSION:2.0
PRODID:-//gutach.ortenaukultur.de//NONSGML kigkonsult.se iCalcreator 2.41.92//
CALSCALE:GREGORIAN
METHOD:PUBLISH
UID:38346630-3137-4535-a366-333538313934
X-WR-TIMEZONE:Europe/Berlin
X-LIC-LOCATION:Europe/Berlin
BEGIN:VEVENT
UID:586222-kulturportal@gutach.ortenaukultur.de
DTSTAMP:20260424T200902Z
DESCRIPTION:Kurzbeschreibung:\n Organisierte Nachbarschafts- und Altenhilfe
  Gutach e.V.\n Ort:\n Rathaus Gutach\n Hauptstraße 38\, 77793 Gutach (Schw
 arzwaldbahn)\n Veranstalter:\n Organisierte Nachbarschafts-und Altenhilfe 
 Gutach e.V.\n Termin:\n Beginn: 05.05.2026\, 18:30 Uhr\n Ende: 05.05.2026
 \n Link:\n Zur Detailseite
DTSTART;TZID=Europe/Berlin:20260505T183000
DTEND;TZID=Europe/Berlin:20260505T213000
LOCATION:Rathaus Gutach\, Hauptstraße 38\, 77793 Gutach (Schwarzwaldbahn)
SUMMARY:Mitgliederversammlung\, Rathaus Gutach
X-ALT-DESC;FMTTYPE=text/html:<strong>Kurzbeschreibung:</strong><br/>Organis
 ierte Nachbarschafts- und Altenhilfe Gutach e.V.<br /><strong>Ort:</strong
 ><br/>Rathaus Gutach<br/>Hauptstraße 38\, 77793 Gutach (Schwarzwaldbahn)<b
 r /><strong>Veranstalter:</strong><br/>Organisierte Nachbarschafts-und Alt
 enhilfe Gutach e.V. <br /><strong>Termin:</strong><br/>Beginn: 05.05.2026\
 , 18:30 Uhr<br/>Ende: 05.05.2026<br /><strong>Link:</strong><br/><a href='
 https://gutach.ortenaukultur.de/de/veranstaltungen/detail/veranstaltung/id
 /586222-mitgliederversammlung/?vt=1'>Zur Detailseite</a>
END:VEVENT
END:VCALENDAR
