BEGIN:VCALENDAR
VERSION:2.0
PRODID:-//gutach.ortenaukultur.de//NONSGML kigkonsult.se iCalcreator 2.41.92//
CALSCALE:GREGORIAN
METHOD:PUBLISH
UID:65316136-3864-4361-a132-383038626437
X-WR-TIMEZONE:Europe/Berlin
X-LIC-LOCATION:Europe/Berlin
BEGIN:VEVENT
UID:586223-kulturportal@gutach.ortenaukultur.de
DTSTAMP:20260424T195642Z
DESCRIPTION:Kurzbeschreibung:\n Turn- und Sportverein Gutach 1901 e.V.\n Or
 t:\n wird noch bekanntgegeben\n Hauptstr. 40\, 77793 Gutach (Schwarzwaldba
 hn)\n Veranstalter:\n Turn- und Sportverein Gutach 1901 e.V.\n Termin:\n B
 eginn: 08.05.2026\, 17:00 Uhr\n Ende: 08.05.2026\n Link:\n Zur Detailseite
DTSTART;TZID=Europe/Berlin:20260508T170000
DTEND;TZID=Europe/Berlin:20260508T200000
LOCATION:wird noch bekanntgegeben\, Hauptstr. 40\, 77793 Gutach (Schwarzwal
 dbahn)
SUMMARY:Generalversammlung mit Jugendversammlung\, Festhalle
X-ALT-DESC;FMTTYPE=text/html:<strong>Kurzbeschreibung:</strong><br/>Turn- u
 nd Sportverein Gutach 1901 e.V.<br /><strong>Ort:</strong><br/>wird noch b
 ekanntgegeben<br/>Hauptstr. 40\, 77793 Gutach (Schwarzwaldbahn)<br /><stro
 ng>Veranstalter:</strong><br/>Turn- und Sportverein Gutach 1901 e.V.<br />
 <strong>Termin:</strong><br/>Beginn: 08.05.2026\, 17:00 Uhr<br/>Ende: 08.0
 5.2026<br /><strong>Link:</strong><br/><a href='https://gutach.ortenaukult
 ur.de/de/veranstaltungen/detail/veranstaltung/id/586223-generalversammlung
 -mit-jugendversammlung/?vt=1'>Zur Detailseite</a>
END:VEVENT
END:VCALENDAR
