BEGIN:VCALENDAR
VERSION:2.0
PRODID:-//gutach.ortenaukultur.de//NONSGML kigkonsult.se iCalcreator 2.41.92//
CALSCALE:GREGORIAN
METHOD:PUBLISH
UID:39616332-3435-4338-b361-623534323935
X-WR-TIMEZONE:Europe/Berlin
X-LIC-LOCATION:Europe/Berlin
BEGIN:VEVENT
UID:586228-kulturportal@gutach.ortenaukultur.de
DTSTAMP:20260424T212015Z
DESCRIPTION:Kurzbeschreibung:\n Gesamtdauer: ca. 4-5 Stunden. Preis pro Per
 sonen: 35 Euro. Anmeldung erforderlich\, Teilnehmerzahl begrenzt.\n Ort:\n
  Parkplatz Dorfmitte\n Hauptstraße 48\, 77793 Gutach (Schwarzwaldbahn)\n V
 eranstalter:\n Schwarzwaldverein - Ortsgruppe Gutach e.V.\n Termin:\n Begi
 nn: 07.06.2026\, 09:15 Uhr\n Ende: 07.06.2026\n Link:\n Zur Detailseite
DTSTART;TZID=Europe/Berlin:20260607T091500
DTEND;TZID=Europe/Berlin:20260607T121500
LOCATION:Parkplatz Dorfmitte\, Hauptstraße 48\, 77793 Gutach (Schwarzwaldba
 hn)
SUMMARY:Bogenparcours in Mühlenbach\, Parkplatz Dorfmitte
X-ALT-DESC;FMTTYPE=text/html:<strong>Kurzbeschreibung:</strong><br/>Gesamtd
 auer: ca. 4-5 Stunden. Preis pro Personen: 35 Euro. Anmeldung erforderlich
 \, Teilnehmerzahl begrenzt.<br /><strong>Ort:</strong><br/>Parkplatz Dorfm
 itte<br/>Hauptstraße 48\, 77793 Gutach (Schwarzwaldbahn)<br /><strong>Vera
 nstalter:</strong><br/>Schwarzwaldverein - Ortsgruppe Gutach e.V.<br /><st
 rong>Termin:</strong><br/>Beginn: 07.06.2026\, 09:15 Uhr<br/>Ende: 07.06.2
 026<br /><strong>Link:</strong><br/><a href='https://gutach.ortenaukultur.
 de/de/veranstaltungen/detail/veranstaltung/id/586228-bogenparcours-in-mueh
 lenbach/?vt=1'>Zur Detailseite</a>
END:VEVENT
END:VCALENDAR
