BEGIN:VCALENDAR
VERSION:2.0
PRODID:-//gutach.ortenaukultur.de//NONSGML kigkonsult.se iCalcreator 2.41.92//
CALSCALE:GREGORIAN
METHOD:PUBLISH
UID:65313166-6161-4137-a435-376633333763
X-WR-TIMEZONE:Europe/Berlin
X-LIC-LOCATION:Europe/Berlin
BEGIN:VEVENT
UID:586232-kulturportal@gutach.ortenaukultur.de
DTSTAMP:20260424T212104Z
DESCRIPTION:Kurzbeschreibung:\n Genusstour mit ca. 8 km in Gutach.\n Ort:\n
  Parkplatz Dorfmitte\n Hauptstraße 48\, 77793 Gutach (Schwarzwaldbahn)\n V
 eranstalter:\n Schwarzwaldverein - Ortsgruppe Gutach e.V.\n Termin:\n Begi
 nn: 12.07.2026\, 10:00 Uhr\n Ende: 12.07.2026\n Link:\n Zur Detailseite
DTSTART;TZID=Europe/Berlin:20260712T100000
DTEND;TZID=Europe/Berlin:20260712T130000
LOCATION:Parkplatz Dorfmitte\, Hauptstraße 48\, 77793 Gutach (Schwarzwaldba
 hn)
SUMMARY:Häppchen-Tour im Wald und Flur\, Parkplatz Dorfmitte
X-ALT-DESC;FMTTYPE=text/html:<strong>Kurzbeschreibung:</strong><br/>Genusst
 our mit ca. 8 km in Gutach.<br /><strong>Ort:</strong><br/>Parkplatz Dorfm
 itte<br/>Hauptstraße 48\, 77793 Gutach (Schwarzwaldbahn)<br /><strong>Vera
 nstalter:</strong><br/>Schwarzwaldverein - Ortsgruppe Gutach e.V.<br /><st
 rong>Termin:</strong><br/>Beginn: 12.07.2026\, 10:00 Uhr<br/>Ende: 12.07.2
 026<br /><strong>Link:</strong><br/><a href='https://gutach.ortenaukultur.
 de/de/veranstaltungen/detail/veranstaltung/id/586232-haeppchen-tour-im-wal
 d-und-flur/?vt=1'>Zur Detailseite</a>
END:VEVENT
END:VCALENDAR
