BEGIN:VCALENDAR
VERSION:2.0
PRODID:-//gutach.ortenaukultur.de//NONSGML kigkonsult.se iCalcreator 2.41.92//
CALSCALE:GREGORIAN
METHOD:PUBLISH
UID:37653034-6237-4337-a366-316663376438
X-WR-TIMEZONE:Europe/Berlin
X-LIC-LOCATION:Europe/Berlin
BEGIN:VEVENT
UID:586236-kulturportal@gutach.ortenaukultur.de
DTSTAMP:20260424T212205Z
DESCRIPTION:Kurzbeschreibung:\n Verbindliche Anmeldung mit 50 Euro Anzahlun
 g erforderlich. Teilnehmerzahl begrenzt.\n Ort:\n Alpenwanderung\, Gutach
 \n Veranstalter:\n Schwarzwaldverein - Ortsgruppe Gutach e.V.\n Termin:\n 
 Beginn: 18.07.2026\n Ende: 18.07.2026\n Link:\n Zur Detailseite
DTSTART;VALUE=DATE:20260718
DTEND;VALUE=DATE:20260719
LOCATION:Alpenwanderung\, Gutach
SUMMARY:Viertägige sportive Alpenwanderung mit Weffe\, Alpenwanderung
X-ALT-DESC;FMTTYPE=text/html:<strong>Kurzbeschreibung:</strong><br/>Verbind
 liche Anmeldung mit 50 Euro Anzahlung erforderlich. Teilnehmerzahl begrenz
 t.<br /><strong>Ort:</strong><br/>Alpenwanderung\, Gutach<br /><strong>Ver
 anstalter:</strong><br/>Schwarzwaldverein - Ortsgruppe Gutach e.V.<br /><s
 trong>Termin:</strong><br/>Beginn: 18.07.2026<br/>Ende: 18.07.2026<br /><s
 trong>Link:</strong><br/><a href='https://gutach.ortenaukultur.de/de/veran
 staltungen/detail/veranstaltung/id/586236-viertaegige-sportive-alpenwander
 ung-mit-weffe/?vt=1'>Zur Detailseite</a>
END:VEVENT
END:VCALENDAR
