BEGIN:VCALENDAR
VERSION:2.0
PRODID:-//gutach.ortenaukultur.de//NONSGML kigkonsult.se iCalcreator 2.41.92//
CALSCALE:GREGORIAN
METHOD:PUBLISH
UID:33356163-6237-4134-a339-653665653136
X-WR-TIMEZONE:Europe/Berlin
X-LIC-LOCATION:Europe/Berlin
BEGIN:VEVENT
UID:587212-kulturportal@gutach.ortenaukultur.de
DTSTAMP:20260425T121055Z
DESCRIPTION:Kurzbeschreibung:\n Kunstmuseum Hasemann-Liebich.\n Ort:\n Kuns
 tmuseum Hasemann-Liebich\n Kirchstraße 4\, 77793 Gutach (Schwarzwaldbahn)
 \n Veranstalter:\n Kunstverein Hasemann-Liebich Gutach\n Termin:\n Beginn:
  03.10.2026\, 14:00 Uhr\n Ende: 03.10.2026\n Link:\n Zur Detailseite
DTSTART;TZID=Europe/Berlin:20261003T140000
DTEND;TZID=Europe/Berlin:20261003T170000
LOCATION:Kunstmuseum Hasemann-Liebich\, Kirchstraße 4\, 77793 Gutach (Schwa
 rzwaldbahn)
SUMMARY:Ausstellung der heutigen Malerkolonie\, Kunstmuseum Hasemann-Liebic
 h
X-ALT-DESC;FMTTYPE=text/html:<strong>Kurzbeschreibung:</strong><br/>Kunstmu
 seum Hasemann-Liebich.<br /><strong>Ort:</strong><br/>Kunstmuseum Hasemann
 -Liebich<br/>Kirchstraße 4\, 77793 Gutach (Schwarzwaldbahn)<br /><strong>V
 eranstalter:</strong><br/>Kunstverein Hasemann-Liebich Gutach<br /><strong
 >Termin:</strong><br/>Beginn: 03.10.2026\, 14:00 Uhr<br/>Ende: 03.10.2026<
 br /><strong>Link:</strong><br/><a href='https://gutach.ortenaukultur.de/d
 e/veranstaltungen/detail/veranstaltung/id/587212-ausstellung-der-heutigen-
 malerkolonie/?vt=1'>Zur Detailseite</a>
END:VEVENT
END:VCALENDAR
