BEGIN:VCALENDAR
VERSION:2.0
PRODID:-//gutach.ortenaukultur.de//NONSGML kigkonsult.se iCalcreator 2.41.92//
CALSCALE:GREGORIAN
METHOD:PUBLISH
UID:31643131-3534-4730-b462-343034626434
X-WR-TIMEZONE:Europe/Berlin
X-LIC-LOCATION:Europe/Berlin
BEGIN:VEVENT
UID:587225-kulturportal@gutach.ortenaukultur.de
DTSTAMP:20260425T040953Z
DESCRIPTION:Kurzbeschreibung:\n Die OT-Kolumnisten bereiten ihren Zuhörern 
 mitten zwischen den Bildern der Gutacher Malerkolonie einen vergnüglichen 
 Abend.\n Ort:\n Kunstmuseum Hasemann-Liebich\n Kirchstraße 4\, 77793 Gutac
 h (Schwarzwaldbahn)\n Veranstalter:\n Kunstverein Hasemann-Liebich Gutach
 \n Termin:\n Beginn: 15.10.2026\, 19:30 Uhr\n Ende: 15.10.2026\n Link:\n Z
 ur Detailseite
DTSTART;TZID=Europe/Berlin:20261015T193000
DTEND;TZID=Europe/Berlin:20261015T223000
LOCATION:Kunstmuseum Hasemann-Liebich\, Kirchstraße 4\, 77793 Gutach (Schwa
 rzwaldbahn)
SUMMARY:Lesung der OT-Kolumnisten\, Kunstmuseum Hasemann-Liebich
X-ALT-DESC;FMTTYPE=text/html:<strong>Kurzbeschreibung:</strong><br/>Die OT-
 Kolumnisten bereiten ihren Zuhörern mitten zwischen den Bildern der Gutach
 er Malerkolonie einen vergnüglichen Abend.<br /><strong>Ort:</strong><br/>
 Kunstmuseum Hasemann-Liebich<br/>Kirchstraße 4\, 77793 Gutach (Schwarzwald
 bahn)<br /><strong>Veranstalter:</strong><br/>Kunstverein Hasemann-Liebich
  Gutach<br /><strong>Termin:</strong><br/>Beginn: 15.10.2026\, 19:30 Uhr<b
 r/>Ende: 15.10.2026<br /><strong>Link:</strong><br/><a href='https://gutac
 h.ortenaukultur.de/de/veranstaltungen/detail/veranstaltung/id/587225-lesun
 g-der-ot-kolumnisten/?vt=1'>Zur Detailseite</a>
END:VEVENT
END:VCALENDAR
