BEGIN:VCALENDAR
VERSION:2.0
PRODID:-//gutach.ortenaukultur.de//NONSGML kigkonsult.se iCalcreator 2.41.92//
CALSCALE:GREGORIAN
METHOD:PUBLISH
UID:39343636-6333-4232-a339-323538333431
X-WR-TIMEZONE:Europe/Berlin
X-LIC-LOCATION:Europe/Berlin
BEGIN:VEVENT
UID:587228-kulturportal@gutach.ortenaukultur.de
DTSTAMP:20260425T135224Z
DESCRIPTION:Kurzbeschreibung:\n evangelische Kirchengemeinde.\n Ort:\n Fest
 halle\n Hauptstr. 40\, 77793 Gutach (Schwarzwaldbahn)\n Veranstalter:\n Ev
 angelische Kirchengemeinde\n Termin:\n Beginn: 23.10.2026\n Ende: 23.10.20
 26\n Link:\n Zur Detailseite
DTSTART;TZID=Europe/Berlin:20261023T000000
DTEND;TZID=Europe/Berlin:20261023T030000
LOCATION:Festhalle\, Hauptstr. 40\, 77793 Gutach (Schwarzwaldbahn)
SUMMARY:Legostadt\, Festhalle
X-ALT-DESC;FMTTYPE=text/html:<strong>Kurzbeschreibung:</strong><br/>evangel
 ische Kirchengemeinde.<br /><strong>Ort:</strong><br/>Festhalle<br/>Haupts
 tr. 40\, 77793 Gutach (Schwarzwaldbahn)<br /><strong>Veranstalter:</strong
 ><br/>Evangelische Kirchengemeinde<br /><strong>Termin:</strong><br/>Begin
 n: 23.10.2026<br/>Ende: 23.10.2026<br /><strong>Link:</strong><br/><a href
 ='https://gutach.ortenaukultur.de/de/veranstaltungen/detail/veranstaltung/
 id/587228-legostadt/?vt=1'>Zur Detailseite</a>
END:VEVENT
END:VCALENDAR
