BEGIN:VCALENDAR
VERSION:2.0
PRODID:-//gutach.ortenaukultur.de//NONSGML kigkonsult.se iCalcreator 2.41.92//
CALSCALE:GREGORIAN
METHOD:PUBLISH
UID:35623834-3666-4133-b466-353036316161
X-WR-TIMEZONE:Europe/Berlin
X-LIC-LOCATION:Europe/Berlin
BEGIN:VEVENT
UID:587232-kulturportal@gutach.ortenaukultur.de
DTSTAMP:20260425T102736Z
DESCRIPTION:Kurzbeschreibung:\n Stilecht und geschmackvoll läuten wir die k
 alte Jahreszeit ein. Wir laden zur Schlachtplatte ein und warten rings um 
 den Falkenhof mit Informationen auf.\n Ort:\n Schwarzwälder Freilichtmuseu
 m Vogtsbauernhof\n Vogtsbauernhof\, 77793 Gutach (Schwarzwaldbahn)\n Veran
 stalter:\n Schwarzwälder Freilichtmuseum Vogtsbauernhof\n Termin:\n Beginn
 : 25.10.2026\n Ende: 25.10.2026\n Link:\n Zur Detailseite
DTSTART;TZID=Europe/Berlin:20261025T000000
DTEND;TZID=Europe/Berlin:20261025T020000
LOCATION:Schwarzwälder Freilichtmuseum Vogtsbauernhof\, Vogtsbauernhof\, 77
 793 Gutach (Schwarzwaldbahn)
SUMMARY:Herbstfest\, Schwarzwälder Freilichtmuseum Vogtsbauernhof
X-ALT-DESC;FMTTYPE=text/html:<strong>Kurzbeschreibung:</strong><br/>Stilech
 t und geschmackvoll läuten wir die kalte Jahreszeit ein. Wir laden zur Sch
 lachtplatte ein und warten rings um den Falkenhof mit Informationen auf.<b
 r /><strong>Ort:</strong><br/>Schwarzwälder Freilichtmuseum Vogtsbauernhof
 <br/>Vogtsbauernhof\, 77793 Gutach (Schwarzwaldbahn)<br /><strong>Veransta
 lter:</strong><br/>Schwarzwälder Freilichtmuseum Vogtsbauernhof<br /><stro
 ng>Termin:</strong><br/>Beginn: 25.10.2026<br/>Ende: 25.10.2026<br /><stro
 ng>Link:</strong><br/><a href='https://gutach.ortenaukultur.de/de/veransta
 ltungen/detail/veranstaltung/id/587232-herbstfest/?vt=1'>Zur Detailseite</
 a>
END:VEVENT
END:VCALENDAR
