BEGIN:VCALENDAR
VERSION:2.0
PRODID:-//gutach.ortenaukultur.de//NONSGML kigkonsult.se iCalcreator 2.41.92//
CALSCALE:GREGORIAN
METHOD:PUBLISH
UID:61303465-6363-4232-a662-396234316566
X-WR-TIMEZONE:Europe/Berlin
X-LIC-LOCATION:Europe/Berlin
BEGIN:VEVENT
UID:587243-kulturportal@gutach.ortenaukultur.de
DTSTAMP:20260425T024122Z
DESCRIPTION:Kurzbeschreibung:\n evangelische Peterskirche.\n Ort:\n Evangel
 ische Peterskirche\n Kirchstraße\, 77793 Gutach (Schwarzwaldbahn)\n Verans
 talter:\n Chorverband Kinzigtal\n Termin:\n Beginn: 08.11.2026\n Ende: 08.
 11.2026\n Link:\n Zur Detailseite
DTSTART;TZID=Europe/Berlin:20261108T000000
DTEND;TZID=Europe/Berlin:20261108T030000
LOCATION:Evangelische Peterskirche\, Kirchstraße\, 77793 Gutach (Schwarzwal
 dbahn)
SUMMARY:125-jähriges Jubiläum Chorverband Kinzigtal\, Evangelische Peterski
 rche
X-ALT-DESC;FMTTYPE=text/html:<strong>Kurzbeschreibung:</strong><br/>evangel
 ische Peterskirche.<br /><strong>Ort:</strong><br/>Evangelische Peterskirc
 he<br/>Kirchstraße\, 77793 Gutach (Schwarzwaldbahn)<br /><strong>Veranstal
 ter:</strong><br/>Chorverband Kinzigtal<br /><strong>Termin:</strong><br/>
 Beginn: 08.11.2026<br/>Ende: 08.11.2026<br /><strong>Link:</strong><br/><a
  href='https://gutach.ortenaukultur.de/de/veranstaltungen/detail/veranstal
 tung/id/587243-125-jaehriges-jubilaeum-chorverband-kinzigtal/?vt=1'>Zur De
 tailseite</a>
END:VEVENT
END:VCALENDAR
